BEGIN:VCALENDAR
VERSION:2.0
PRODID:-//MIT Graduate Program in Comparative Media Studies - ECPv5.16.1//NONSGML v1.0//EN
CALSCALE:GREGORIAN
METHOD:PUBLISH
X-WR-CALNAME:MIT Graduate Program in Comparative Media Studies
X-ORIGINAL-URL:https://cms.mit.edu
X-WR-CALDESC:Events for MIT Graduate Program in Comparative Media Studies
REFRESH-INTERVAL;VALUE=DURATION:PT1H
X-Robots-Tag:noindex
X-PUBLISHED-TTL:PT1H
BEGIN:VTIMEZONE
TZID:America/New_York
BEGIN:DAYLIGHT
TZOFFSETFROM:-0500
TZOFFSETTO:-0400
TZNAME:EDT
DTSTART:20130310T070000
END:DAYLIGHT
BEGIN:STANDARD
TZOFFSETFROM:-0400
TZOFFSETTO:-0500
TZNAME:EST
DTSTART:20131103T060000
END:STANDARD
END:VTIMEZONE
BEGIN:VEVENT
DTSTART;VALUE=DATE:20130107
DTEND;VALUE=DATE:20130201
DTSTAMP:20260425T085404
CREATED:20150121T152251Z
LAST-MODIFIED:20150121T152251Z
UID:21604-1357516800-1359676799@cms.mit.edu
SUMMARY:Individual Consultations at the Writing and Communication Center
DESCRIPTION:Enrollment: Limited: Advance sign-up required\nAttendance: Repeating event\, participants welcome at any session\nPrereq: none \nThe Writing Center will continue to offer free consultation and advice on oral presentations and on any writing problem\, including finding a topic\, generating ideas\, overcoming writer’s block\, improving grammar\, crafting effective sentences and paragraphs\, organizing ideas\, using of evidence\, analyzing audiences\, and writing strategically. We can help with technical writing; theses in all departments; job\, graduate and med school application essays; research and teaching statements; resumes; conference talks; articles for publication; book proposals and chapters; and papers for any course. We also offer help on pronunciation. \nSponsor(s): Writing and Communication Center\nContact: Steven Strang\, 12-132\, 617-253-4459\, smstrang@mit.edu
URL:https://cms.mit.edu/event/writing-communications-center-individual-consultations/
LOCATION:MIT Building 12\, Room 132\, 60 Vassar Street\, Cambridge\, MA\, 02139\, United States
CATEGORIES:Independent Activities Period
END:VEVENT
BEGIN:VEVENT
DTSTART;VALUE=DATE:20130128
DTEND;VALUE=DATE:20130201
DTSTAMP:20260425T085404
CREATED:20150121T153305Z
LAST-MODIFIED:20150121T153305Z
UID:21593-1359331200-1359676799@cms.mit.edu
SUMMARY:Integrating Communication Instruction in CI Subjects: A Writing Across the Curriculum IAP Workshop
DESCRIPTION:Enrollment: Limited: First come\, first served (no advance sign-up) \nInstructors of CI subjects often ask how they can more effectively connect writing and speaking instruction with the course content\, so that communication assignments are not just additional requirements\, but instead help students more deeply engage with the concepts of the course. How can we design instructional and assignment sequences that are organic to each subject\, and that help students approach writing and speaking as the space for developing conceptual thinking? Working with some examples from CI-M and CI-H classes\, we’ll explore how instructors can break down assignments to demystify research\, writing\, and presentation in their fields. Improved sequencing will help students experience a more productive writing experience. \nBring examples of assignments from your classes to share. \nAll WAC workshops are open to faculty and teaching assistants who are interested in integrating writing and speaking into their subjects. \nSponsor(s): Teaching and Learning Lab\, Comparative Media Studies\nContact: Ashley Caval\, 12-117\, 617 253-0650\, ACAVAL@MIT.EDU
URL:https://cms.mit.edu/event/integrating-communication-instruction-in-ci-subjects/
LOCATION:MIT Building 12\, Room 134\, Cambridge\, MA\, 02139\, United States
CATEGORIES:Independent Activities Period
END:VEVENT
BEGIN:VEVENT
DTSTART;TZID=America/New_York:20130129T100000
DTEND;TZID=America/New_York:20130129T113000
DTSTAMP:20260425T085404
CREATED:20160818T174458Z
LAST-MODIFIED:20160818T174458Z
UID:21595-1359453600-1359459000@cms.mit.edu
SUMMARY:Powerful Feedback: Strategies for Responding to Student Writing: A Writing Across the Curriculum IAP Workshop
DESCRIPTION:Enrollment: Limited: First come\, first served (no advance sign-up) \nWhat kind of feedback will help students understand how to revise their essays\, reports or articles\, or to write their next assignment more effectively? This workshop will help faculty and TA’s to articulate their criteria for student writing and to develop powerful feedback practices\, from written comments to rubrics to peer review to individual conferences.= By considering feedback in relation to other forms of instruction\, participants will learn to provide the kinds of comments and strategies that will help students understand how to improve their skills as writers. \nAll WAC workshops are open to faculty and teaching assistants who are interested in integrating writing and speaking into their subjects. \nSponsor(s): Comparative Media Studies\, Teaching and Learning Lab                Contact: Ashley Caval\, 12-117\, 617 253-0650\, ACAVAL@MIT.EDU
URL:https://cms.mit.edu/event/strategies-responding-student-writing/
LOCATION:MIT Building 12\, Room 134\, Cambridge\, MA\, 02139\, United States
CATEGORIES:Independent Activities Period
ATTACH;FMTTYPE=image/jpeg:https://cms.mit.edu/wp/wp-content/uploads/2015/12/Independent-Activities-Period.jpg
END:VEVENT
END:VCALENDAR