BEGIN:VCALENDAR
VERSION:2.0
PRODID:-//MIT Graduate Program in Comparative Media Studies - ECPv5.16.1//NONSGML v1.0//EN
CALSCALE:GREGORIAN
METHOD:PUBLISH
X-ORIGINAL-URL:https://cms.mit.edu
X-WR-CALDESC:Events for MIT Graduate Program in Comparative Media Studies
REFRESH-INTERVAL;VALUE=DURATION:PT1H
X-Robots-Tag:noindex
X-PUBLISHED-TTL:PT1H
BEGIN:VTIMEZONE
TZID:America/New_York
BEGIN:DAYLIGHT
TZOFFSETFROM:-0500
TZOFFSETTO:-0400
TZNAME:EDT
DTSTART:20090308T070000
END:DAYLIGHT
BEGIN:STANDARD
TZOFFSETFROM:-0400
TZOFFSETTO:-0500
TZNAME:EST
DTSTART:20091101T060000
END:STANDARD
END:VTIMEZONE
BEGIN:VEVENT
DTSTART;TZID=America/New_York:20091207T171500
DTEND;TZID=America/New_York:20091207T171500
DTSTAMP:20260425T235555
CREATED:20141113T141721Z
LAST-MODIFIED:20141113T141721Z
UID:21332-1260206100-1260206100@cms.mit.edu
SUMMARY:Comparative Media Insights: "Art of the Impossible: Utopia\, Imagination\, and Critical Media Practice"
DESCRIPTION:In an economy of informational abundance\, does the traditional truth-revealing role of critical media practice still have any political relevance? Or are there other\, perhaps more politically potent\, ways of thinking about the liberatory possibilities of media? By considering a range of examples\, from Thomas More’s 16th century Utopia to 21st century political art\, we will explore the possibilities and pitfalls of mediated utopias as a means of revitalizing the critical practice of communications. Of particular interest are impossible utopias\, “no-places” whose unrealizability is inscribed in their depiction. For it is through the encounter with their very impossibility that conditions for new critique and new imagination may be created. \nStephen Duncombe is an Associate Professor at the Gallatin School of New York University where he teaches the history and politics of media. He is the author of Dream: Re-Imagining Progressive Politics in an Age of Fantasy and Notes From Underground: Zines and the Politics of Underground Culture\, the editor of the Cultural Resistance Reader\, and co-author of The Bobbed Haired Bandit: A True Story of Crime and Celebrity in 1920’s New York. He also writes on the intersection of culture and politics for a range of scholarly and popular publications\, from the cerebral\, The Nation\, to the prurient\, Playboy. Duncombe is a life-long political activist\, co-founding a community based advocacy group in the Lower East Side of Manhattan and working as an organizer for the NYC chapter of an international direct action group. Currently\, he is a Research Associate at the Eyebeam Center for Art and Technology in New York City where he co-founded and organized “The College of Tactical Culture” and is engaged in an ongoing investigation into the efficacy of political art. He is currently working on a book on the art of propaganda during the New Deal.
URL:https://cms.mit.edu/event/stephen-duncombe-utopia-imagination-critical-media-practice/
LOCATION:MIT Building 14E\, Room 310\, 160 Memorial Drive\, Cambridge\, MA\, 02139\, United States
CATEGORIES:Comparative Media Insights
ATTACH;FMTTYPE=image/jpeg:https://cms.mit.edu/wp/wp-content/uploads/2009/12/duncombe.jpg
END:VEVENT
END:VCALENDAR