BEGIN:VCALENDAR
VERSION:2.0
PRODID:-//MIT Graduate Program in Comparative Media Studies - ECPv5.16.1//NONSGML v1.0//EN
CALSCALE:GREGORIAN
METHOD:PUBLISH
X-ORIGINAL-URL:https://cms.mit.edu
X-WR-CALDESC:Events for MIT Graduate Program in Comparative Media Studies
REFRESH-INTERVAL;VALUE=DURATION:PT1H
X-Robots-Tag:noindex
X-PUBLISHED-TTL:PT1H
BEGIN:VTIMEZONE
TZID:America/New_York
BEGIN:DAYLIGHT
TZOFFSETFROM:-0500
TZOFFSETTO:-0400
TZNAME:EDT
DTSTART:20130310T070000
END:DAYLIGHT
BEGIN:STANDARD
TZOFFSETFROM:-0400
TZOFFSETTO:-0500
TZNAME:EST
DTSTART:20131103T060000
END:STANDARD
END:VTIMEZONE
BEGIN:VEVENT
DTSTART;TZID=America/New_York:20130115T100000
DTEND;TZID=America/New_York:20130115T113000
DTSTAMP:20260425T124458
CREATED:20150115T195606Z
LAST-MODIFIED:20150115T195606Z
UID:21603-1358244000-1358249400@cms.mit.edu
SUMMARY:How to Write a Great Abstract
DESCRIPTION:Enrollment: Limited: Advance sign-up required\nLimited to 20 participants\nPrereq: none \nFor your paper to be successful\, people have to actually read it. A compelling abstract is essential for capturing their attention and making them want to read more. But writing an effective abstract is challenging because you need to summarize what motivated you\, what you did\, and what you found\, in a small number of words. In this workshop\, we’ll analyze sample abstracts from different fields\, learn editing strategies\, and practice revising abstracts. You’ll leave with a better understanding of how to write a strong abstract that clearly presents your research. \nSponsor(s): Writing and Communication Center\nContact: Steven Strang\, 12-120\, 617 253-4459\, SMSTRANG@MIT.EDU
URL:https://cms.mit.edu/event/how-to-write-a-great-abstract/
LOCATION:MIT Building 12\, Room 132\, 60 Vassar Street\, Cambridge\, MA\, 02139\, United States
CATEGORIES:Independent Activities Period
END:VEVENT
END:VCALENDAR