BEGIN:VCALENDAR
VERSION:2.0
PRODID:-//MIT Graduate Program in Comparative Media Studies - ECPv5.16.1//NONSGML v1.0//EN
CALSCALE:GREGORIAN
METHOD:PUBLISH
X-ORIGINAL-URL:https://cms.mit.edu
X-WR-CALDESC:Events for MIT Graduate Program in Comparative Media Studies
REFRESH-INTERVAL;VALUE=DURATION:PT1H
X-Robots-Tag:noindex
X-PUBLISHED-TTL:PT1H
BEGIN:VTIMEZONE
TZID:America/New_York
BEGIN:DAYLIGHT
TZOFFSETFROM:-0500
TZOFFSETTO:-0400
TZNAME:EDT
DTSTART:20180311T070000
END:DAYLIGHT
BEGIN:STANDARD
TZOFFSETFROM:-0400
TZOFFSETTO:-0500
TZNAME:EST
DTSTART:20181104T060000
END:STANDARD
END:VTIMEZONE
BEGIN:VEVENT
DTSTART;TZID=America/New_York:20180412T180000
DTEND;TZID=America/New_York:20180412T200000
DTSTAMP:20260425T170220
CREATED:20180226T192500Z
LAST-MODIFIED:20201014T151221Z
UID:31668-1523556000-1523563200@cms.mit.edu
SUMMARY:Republican Resistance in the Age of Trump
DESCRIPTION:Stuart Stevens\, Republican political consultant\nStuart Stevens believes Republicans are in a “GOP apocalypse\,” and he’s mobilizing conservatives to stop it. \nStevens is a Republican political consultant who’s worked on presidential campaigns for Bob Dole and George W. Bush\, served as the lead strategist for Mitt Romney’s 2012 presidential campaign\, and helped elect more governors and US Senators than any other GOP consultant working today. He’s also an outspoken critic of Donald Trump\, starting from the earliest days of Trump’s candidacy. Stevens joins MIT Communications Forum director Seth Mnookin to discuss the future of the GOP\, how Donald Trump has influenced the American political system\, and predictions for the 2018 midterm and the 2020 presidential elections. \nSpeakers: \nStuart Stevens is a political consultant\, author\, and founding partner of the consultancy firm Strategic\, Partners & Media. Stevens has served as a strategist and media consultant to President George W. Bush\, Governor Tom Ridge\, and senators Chuck Grassley\, John McCain\, Thad Cochran\, Roger Wicker\, Dick Lugar\, and many others. Stevens was the lead strategist for Mitt Romney’s 2012 presidential campaign. \nJennifer Nassour is the founder of Conservative Women for a Better Future\, a non-profit organization dedicated to electing more conservative women in the Northeast\, and former chairman of the Massachusetts Republican Party. During her tenure\, Republicans won the U.S. Senate seat held by Scott Brown and doubled their ranks in the Massachusetts House of Representatives. \nDr. Daniel Barkhuff is president of Veterans for Responsible Leadership\, a nonpartisan political action committee that supports veterans who have demonstrated integrity and rational thought as they run for positions in local\, state and federal elections. Barkhuff served for 7 years as a member of Naval Special Warfare and is currently a faculty member and emergency medicine doctor at the University of Vermont. \nModerator: Seth Mnookin is the director of the MIT Communications Forum and director of MIT’s Graduate Program in Science Writing. His most recent book\, The Panic Virus: The True Story Behind the Vaccine-Autism Controversy\,won the “Science in Society” award from the National Association of Science Writers.
URL:https://cms.mit.edu/event/republican-resistance-age-trump/
LOCATION:MIT Building 3\, Room 270\, 33 Massachusetts Ave (Rear)\, Cambridge\, MA\, 02319\, United States
CATEGORIES:Communications Forum
ATTACH;FMTTYPE=image/jpeg:https://cms.mit.edu/wp/wp-content/uploads/2018/02/Stuart-Stevens.jpeg
ORGANIZER;CN="MIT%20Communications%20Forum":MAILTO:couch@mit.edu
END:VEVENT
END:VCALENDAR