BEGIN:VCALENDAR
VERSION:2.0
PRODID:-//MIT Graduate Program in Comparative Media Studies - ECPv5.16.1//NONSGML v1.0//EN
CALSCALE:GREGORIAN
METHOD:PUBLISH
X-WR-CALNAME:MIT Graduate Program in Comparative Media Studies
X-ORIGINAL-URL:https://cms.mit.edu
X-WR-CALDESC:Events for MIT Graduate Program in Comparative Media Studies
REFRESH-INTERVAL;VALUE=DURATION:PT1H
X-Robots-Tag:noindex
X-PUBLISHED-TTL:PT1H
BEGIN:VTIMEZONE
TZID:America/New_York
BEGIN:DAYLIGHT
TZOFFSETFROM:-0500
TZOFFSETTO:-0400
TZNAME:EDT
DTSTART:20120311T070000
END:DAYLIGHT
BEGIN:STANDARD
TZOFFSETFROM:-0400
TZOFFSETTO:-0500
TZNAME:EST
DTSTART:20121104T060000
END:STANDARD
END:VTIMEZONE
BEGIN:VEVENT
DTSTART;TZID=America/New_York:20120921T090000
DTEND;TZID=America/New_York:20120921T203000
DTSTAMP:20260422T031034
CREATED:20141218T152623Z
LAST-MODIFIED:20141218T152717Z
UID:21579-1348218000-1348259400@cms.mit.edu
SUMMARY:Games in Everyday Life and Why That Matters to You
DESCRIPTION:Join the MIT Game Lab and our keynote speaker\, visionary game developer Peter Molyneux\, on September 21st for a one-day symposium: \nGames in Everyday Life and Why That Matters to You\nWhat can finance\, health care\, philanthropy\, and education learn from cutting-edge games and game theory? The new MIT Game Lab (http://gamelab.mit.edu) has some answers for you. Join us September 21st! \nRegister here! http://mitgamelabsymposium2012.eventbrite.com \n1. Panels By — and For — Industry and Researchers \nOur panels will feature leading industry professionals and games researchers on: \n\nApplied Game Research: Players\, Design\, and Technology\nGames for Learning\nMeaningful R&D Partnerships\nPositive Game Lab Impact\n\nThis is your chance to meet leaders like new media scholar Henry Jenkins\, MIT Game Lab executive director Philip Tan\, and MIT neuroscientist Sebatian Seung\, whose artificial intelligence work is an inspiration for how game-like tools can have real-world impact. \n2. Then\, work with the MIT Game Lab \nThis gathering also marks the launch of the MIT Game Lab\, the new international home of game scholars\, creators\, and technologists\, all working to solve the tough challenges people like you to bring to the table. \nThe symposium is open to the public. But we especially welcome those who think games have a role to play in advancing their academic\, non-profit\, and corporate missions but don’t yet know how. To that end\, your participation in this symposium can be a step toward working with the MIT Game Lab long-term. \n 3. Register \nSlots are going fast\, but discounted attendance is still available for $150 — which includes breakfast\, lunch\, and a ticket to the evening reception. Students may register at a special $75 dollar rate with the code “COLLABMIT”. \nRegister today\, and see you on the 21st! \nhttp://mitgamelabsymposium2012.eventbrite.com
URL:https://cms.mit.edu/event/games-in-everyday-life/
LOCATION:Tang Center\, 70 Memorial Drive\, Cambridge\, MA\, 02139\, United States
ATTACH;FMTTYPE=image/png:https://cms.mit.edu/wp/wp-content/uploads/2013/05/mit-game-lab-logo.png
END:VEVENT
END:VCALENDAR