BEGIN:VCALENDAR
VERSION:2.0
PRODID:-//MIT Graduate Program in Comparative Media Studies - ECPv5.16.1//NONSGML v1.0//EN
CALSCALE:GREGORIAN
METHOD:PUBLISH
X-ORIGINAL-URL:https://cms.mit.edu
X-WR-CALDESC:Events for MIT Graduate Program in Comparative Media Studies
REFRESH-INTERVAL;VALUE=DURATION:PT1H
X-Robots-Tag:noindex
X-PUBLISHED-TTL:PT1H
BEGIN:VTIMEZONE
TZID:America/New_York
BEGIN:DAYLIGHT
TZOFFSETFROM:-0500
TZOFFSETTO:-0400
TZNAME:EDT
DTSTART:20110313T070000
END:DAYLIGHT
BEGIN:STANDARD
TZOFFSETFROM:-0400
TZOFFSETTO:-0500
TZNAME:EST
DTSTART:20111106T060000
END:STANDARD
END:VTIMEZONE
BEGIN:VEVENT
DTSTART;TZID=America/New_York:20111213T170000
DTEND;TZID=America/New_York:20111213T190000
DTSTAMP:20260423T145439
CREATED:20141121T153820Z
LAST-MODIFIED:20141121T153841Z
UID:21509-1323795600-1323802800@cms.mit.edu
SUMMARY:Creative Industries\, Micro-productivity and Social Learning: A Cultural Science Approach to Cultural and Media Studies
DESCRIPTION:John Hartley\n“To have great poets\, there must be great audiences too.” \n–Walt Whitman \nThis paper outlines recent developments in the field of cultural and media studies\, including an account of changes in the economy\, culture and technology\, and consequent initiatives in educational provision for the creative industries. It goes on to outline the case for a new approach to the media and culture\, based on evolutionary and complexity studies\, in which the comparative media environment is recast in terms of ‘micro-productivity’ (user-created content) and ‘social learning’ (networked knowledge). \nJohn Hartley is an educator\, author\, researcher and commentator on the history and cultural impact of television\, journalism\, popular media and creative industries.
URL:https://cms.mit.edu/event/cultural-science-approach-to-culture-and-media-studies/
LOCATION:MIT Media Lab\, Room 633\, 75 Amherst St.\, Cambridge\, MA\, 02139\, United States
CATEGORIES:Comparative Media Insights
ATTACH;FMTTYPE=image/png:https://cms.mit.edu/wp/wp-content/uploads/2012/01/John.A.png
END:VEVENT
END:VCALENDAR