BEGIN:VCALENDAR
VERSION:2.0
PRODID:-//MIT Graduate Program in Comparative Media Studies - ECPv5.16.1//NONSGML v1.0//EN
CALSCALE:GREGORIAN
METHOD:PUBLISH
X-WR-CALNAME:MIT Graduate Program in Comparative Media Studies
X-ORIGINAL-URL:https://cms.mit.edu
X-WR-CALDESC:Events for MIT Graduate Program in Comparative Media Studies
REFRESH-INTERVAL;VALUE=DURATION:PT1H
X-Robots-Tag:noindex
X-PUBLISHED-TTL:PT1H
BEGIN:VTIMEZONE
TZID:America/New_York
BEGIN:DAYLIGHT
TZOFFSETFROM:-0500
TZOFFSETTO:-0400
TZNAME:EDT
DTSTART:20110313T070000
END:DAYLIGHT
BEGIN:STANDARD
TZOFFSETFROM:-0400
TZOFFSETTO:-0500
TZNAME:EST
DTSTART:20111106T060000
END:STANDARD
END:VTIMEZONE
BEGIN:VEVENT
DTSTART;TZID=America/New_York:20110425T180000
DTEND;TZID=America/New_York:20110425T210000
DTSTAMP:20260422T182454
CREATED:20140731T131158Z
LAST-MODIFIED:20140731T131222Z
UID:21484-1303754400-1303765200@cms.mit.edu
SUMMARY:13th Annual Media Spectacle
DESCRIPTION:(See call for entries) \n \nAn honored tradition returns this Spring when CMS presents the thirteenth annual Media Spectacle. The event\, founded by late CMS program administrator Chris Pomiecko\, celebrates his love for filmmaking by showcasing the finest video projects created by MIT students\, staff and faculty. \nHistorically\, the event has received submissions of every genre from experimental to documentary to narrative works created on every conceivable platform and device. Prizes include the Chris Pomiecko Award for Best Undergraduate Entry\, as well as awards for Best Non-undergraduate Entry\, Animation\, Experimental\, Narrative\, Nonfiction\, and Audience Favorite. The event is judged by esteemed members of the CMS community\, including Cathy Pomiecko\, Chris’s sister.
URL:https://cms.mit.edu/event/13th-annual-media-spectacle/
LOCATION:MIT Building 32 (Stata Center)\, Room 155\, 32 Vassar Street\, Cambridge\, MA\, 02139\, United States
ATTACH;FMTTYPE=image/jpeg:https://cms.mit.edu/wp/wp-content/uploads/2014/07/Media-Spectacle-2011.jpg
END:VEVENT
END:VCALENDAR