BEGIN:VCALENDAR
VERSION:2.0
PRODID:-//MIT Graduate Program in Comparative Media Studies - ECPv5.16.1//NONSGML v1.0//EN
CALSCALE:GREGORIAN
METHOD:PUBLISH
X-WR-CALNAME:MIT Graduate Program in Comparative Media Studies
X-ORIGINAL-URL:https://cms.mit.edu
X-WR-CALDESC:Events for MIT Graduate Program in Comparative Media Studies
REFRESH-INTERVAL;VALUE=DURATION:PT1H
X-Robots-Tag:noindex
X-PUBLISHED-TTL:PT1H
BEGIN:VTIMEZONE
TZID:America/New_York
BEGIN:DAYLIGHT
TZOFFSETFROM:-0500
TZOFFSETTO:-0400
TZNAME:EDT
DTSTART:20070311T070000
END:DAYLIGHT
BEGIN:STANDARD
TZOFFSETFROM:-0400
TZOFFSETTO:-0500
TZNAME:EST
DTSTART:20071104T060000
END:STANDARD
END:VTIMEZONE
BEGIN:VEVENT
DTSTART;TZID=America/New_York:20070111T180000
DTEND;TZID=America/New_York:20070111T180000
DTSTAMP:20260419T153753
CREATED:20141205T191303Z
LAST-MODIFIED:20141205T191303Z
UID:21418-1168538400-1168538400@cms.mit.edu
SUMMARY:Documentary Filmmaking: A One Day Survival Guide
DESCRIPTION:Documentary filmmaker Generoso Fierro takes you through a one time class where you will learn the basics of shooting a documentary film on mini dv\, editing and getting it seen. Learn how to navigate through the murky waters of copyright issues regarding still images and music to creating a release. Learn quick editing techniques\, dvd mastering and an easy festival submission process so that your work can be seen.
URL:https://cms.mit.edu/event/documentary-filmmaking-survival-guide/
LOCATION:MIT Building 32 (Stata Center)\, Room 124\, 32 Vassar Street\, Cambridge\, MA\, 02139\, United States
CATEGORIES:Independent Activities Period
ATTACH;FMTTYPE=image/jpeg:https://cms.mit.edu/wp/wp-content/uploads/2010/03/Generoso-Fierro.jpg
END:VEVENT
END:VCALENDAR