BEGIN:VCALENDAR
VERSION:2.0
PRODID:-//MIT Graduate Program in Comparative Media Studies - ECPv5.16.1//NONSGML v1.0//EN
CALSCALE:GREGORIAN
METHOD:PUBLISH
X-WR-CALNAME:MIT Graduate Program in Comparative Media Studies
X-ORIGINAL-URL:https://cms.mit.edu
X-WR-CALDESC:Events for MIT Graduate Program in Comparative Media Studies
REFRESH-INTERVAL;VALUE=DURATION:PT1H
X-Robots-Tag:noindex
X-PUBLISHED-TTL:PT1H
BEGIN:VTIMEZONE
TZID:America/New_York
BEGIN:DAYLIGHT
TZOFFSETFROM:-0500
TZOFFSETTO:-0400
TZNAME:EDT
DTSTART:20060402T070000
END:DAYLIGHT
BEGIN:STANDARD
TZOFFSETFROM:-0400
TZOFFSETTO:-0500
TZNAME:EST
DTSTART:20061029T060000
END:STANDARD
END:VTIMEZONE
BEGIN:VEVENT
DTSTART;TZID=America/New_York:20061127T190000
DTEND;TZID=America/New_York:20061127T190000
DTSTAMP:20260423T171140
CREATED:20141215T153443Z
LAST-MODIFIED:20190731T182536Z
UID:21260-1164654000-1164654000@cms.mit.edu
SUMMARY:Film Screening: Quest for Home: GayBombay
DESCRIPTION:CMS is delighted to host a special screening of the documentary video Quest for Home: Gaybombay\, by former CMS alum and colleague Parmesh Shahani. The video is an ethnographic exploration of gay life in contemporary India\, and the screening will be followed by a Q&A session with Parmesh\, who is visiting from Bombay.
URL:https://cms.mit.edu/event/film-screening-quest-for-home-gaybombay/
LOCATION:MIT Building 6\, Room 120\, 182 Memorial Drive (Rear)\, Cambridge\, MA\, 02139\, United States
ATTACH;FMTTYPE=image/jpeg:https://cms.mit.edu/wp/wp-content/uploads/2014/08/Parmesh-Shahani.jpg
END:VEVENT
END:VCALENDAR