BEGIN:VCALENDAR
VERSION:2.0
PRODID:-//MIT Graduate Program in Comparative Media Studies - ECPv5.16.1//NONSGML v1.0//EN
CALSCALE:GREGORIAN
METHOD:PUBLISH
X-WR-CALNAME:MIT Graduate Program in Comparative Media Studies
X-ORIGINAL-URL:https://cms.mit.edu
X-WR-CALDESC:Events for MIT Graduate Program in Comparative Media Studies
REFRESH-INTERVAL;VALUE=DURATION:PT1H
X-Robots-Tag:noindex
X-PUBLISHED-TTL:PT1H
BEGIN:VTIMEZONE
TZID:America/New_York
BEGIN:DAYLIGHT
TZOFFSETFROM:-0500
TZOFFSETTO:-0400
TZNAME:EDT
DTSTART:20120311T070000
END:DAYLIGHT
BEGIN:STANDARD
TZOFFSETFROM:-0400
TZOFFSETTO:-0500
TZNAME:EST
DTSTART:20121104T060000
END:STANDARD
END:VTIMEZONE
BEGIN:VEVENT
DTSTART;TZID=America/New_York:20120124T120000
DTEND;TZID=America/New_York:20120124T133000
DTSTAMP:20260422T074020
CREATED:20161025T175611Z
LAST-MODIFIED:20161025T175611Z
UID:21536-1327406400-1327411800@cms.mit.edu
SUMMARY:Konstantin Mitgutsch: "Purposeful Games: Research & Design"
DESCRIPTION:Konstantin Mitgutsch\nIn the last few years a new trend of designing video games intended to fulfill a serious purpose through impacting the players in real life contexts has emerged. These games claim to raise awareness about social and political issues such as inequity\, injustice\, poverty\, racism\, sexism\, exploitation\, and oppression. Their intent is to reach a specific purpose beyond pure entertainment. But what are the specific attributes of purposeful games and how can they be researched? Which game design challenges arise and how are they addressed? How do players make meaning of their game play experiences in general? And what is the future of purposeful games research? \nIn this talk three perspectives of Konstantin Mitgutsch’s recent research on purposeful games are outlined: To begin\, insights from a recent study on meaningful experiences in players’ lives are examined and the research method of playographies is discussed. In the second part\, a research-based game design project on subversive game design and recursive learning is presented and the background of the game Afterland is highlighted. Finally\, the narrative of serious games and the design of purposeful games are discussed. On this basis\, recent research results will be explored and future challenges for game design and purposeful games research will be outlined. \nKonstantin Mitgutsch is a post-doctoral researcher at the Singapore-MIT GAMBIT Game Lab and a Visiting Professor at the University of Vienna. In 2010 he was a Max Kade Fellow at the Education Arcade at the Program of Comparative Media Studies at MIT. He worked at the University of Vienna for several years and published books in the field of game studies and education. Since 2007 he organizes and chairs the annual Vienna Games Conference FROG and is on the expert council of the Pan European Game Information (PEGI).
URL:https://cms.mit.edu/event/konstantin-mitgutsch-purposeful-games-research-design/
LOCATION:Comparative Media Studies: MIT Building E15\, Room 335\, 20 Ames St.\, Cambridge\, MA\, 02139\, United States
ATTACH;FMTTYPE=image/jpeg:https://cms.mit.edu/wp/wp-content/uploads/2012/01/Mitgutsch.jpg
END:VEVENT
END:VCALENDAR