BEGIN:VCALENDAR
VERSION:2.0
PRODID:-//MIT Graduate Program in Comparative Media Studies - ECPv5.16.1//NONSGML v1.0//EN
CALSCALE:GREGORIAN
METHOD:PUBLISH
X-ORIGINAL-URL:https://cms.mit.edu
X-WR-CALDESC:Events for MIT Graduate Program in Comparative Media Studies
REFRESH-INTERVAL;VALUE=DURATION:PT1H
X-Robots-Tag:noindex
X-PUBLISHED-TTL:PT1H
BEGIN:VTIMEZONE
TZID:America/New_York
BEGIN:DAYLIGHT
TZOFFSETFROM:-0500
TZOFFSETTO:-0400
TZNAME:EDT
DTSTART:20170312T070000
END:DAYLIGHT
BEGIN:STANDARD
TZOFFSETFROM:-0400
TZOFFSETTO:-0500
TZNAME:EST
DTSTART:20171105T060000
END:STANDARD
END:VTIMEZONE
BEGIN:VEVENT
DTSTART;TZID=America/New_York:20170302T170000
DTEND;TZID=America/New_York:20170302T170000
DTSTAMP:20260421T135659
CREATED:20170117T192128Z
LAST-MODIFIED:20170117T192128Z
UID:29051-1488474000-1488474000@cms.mit.edu
SUMMARY:Desktop Reveries: Hand\, Software\, and the Space of Japanese Artist Animation
DESCRIPTION:Paul RoquetMIT Global Studies and Languages\, Assistant Professor of Japanese Studies\nIndependent animators often pride themselves on an intimate\, hand-drawn aesthetic. But they increasingly rely on computer software not only to accelerate their workflow\, but to manipulate the look and feel of their drawings. Compositing software enables subtle but decisive shifts in the spaces portrayed\, through manipulations of color\, texture\, line\, and movement. Seeking to unravel the analytical split between the “drawn” and the “digital” in animation and media studies more broadly\, Roquet’s project moves back and forth between two desktops: the hard surface of the drawing table and the pixelated surface of the screen. This talk focuses on how the physical and perceptual affordances of both interfaces appear reimagined in the textures\, movements\, and tactility present in the animations themselves. Through a phenomenology of the contemporary desktop\, Roquet seeks to ground the contemporary audiovisual imagination in the materiality of the tools and techniques at hand. \nPaul Roquet is Assistant Professor of Japanese Studies in the Global Studies and Languages Section at MIT. He is the author of Ambient Media: Japanese Atmospheres of Self (Minnesota 2016) as well as numerous essays on Japanese audiovisual and literary aesthetics.
URL:https://cms.mit.edu/event/hand-software-space-japanese-artist-animation/
LOCATION:MIT Building 56\, Room 114\, Access via 21 Ames Street\, Cambridge\, MA\, 02139\, United States
CATEGORIES:Colloquium
ATTACH;FMTTYPE=image/jpeg:https://cms.mit.edu/wp/wp-content/uploads/2017/01/Paul-Roquet.jpg
END:VEVENT
END:VCALENDAR