BEGIN:VCALENDAR
VERSION:2.0
PRODID:-//MIT Graduate Program in Comparative Media Studies - ECPv5.16.1//NONSGML v1.0//EN
CALSCALE:GREGORIAN
METHOD:PUBLISH
X-WR-CALNAME:MIT Graduate Program in Comparative Media Studies
X-ORIGINAL-URL:https://cms.mit.edu
X-WR-CALDESC:Events for MIT Graduate Program in Comparative Media Studies
REFRESH-INTERVAL;VALUE=DURATION:PT1H
X-Robots-Tag:noindex
X-PUBLISHED-TTL:PT1H
BEGIN:VTIMEZONE
TZID:America/New_York
BEGIN:DAYLIGHT
TZOFFSETFROM:-0500
TZOFFSETTO:-0400
TZNAME:EDT
DTSTART:20110313T070000
END:DAYLIGHT
BEGIN:STANDARD
TZOFFSETFROM:-0400
TZOFFSETTO:-0500
TZNAME:EST
DTSTART:20111106T060000
END:STANDARD
END:VTIMEZONE
BEGIN:VEVENT
DTSTART;TZID=America/New_York:20110511T160000
DTEND;TZID=America/New_York:20110511T160000
DTSTAMP:20260422T012913
CREATED:20161013T143400Z
LAST-MODIFIED:20161013T143912Z
UID:21369-1305129600-1305129600@cms.mit.edu
SUMMARY:Race and Representation after 9/11
DESCRIPTION:Cynthia Young\nDrawing on recent U.S. television series “The Unit” and “Sleeper Cells\,” Cynthia Young examines recent shifts in media representations of African American men\, arguing that in the context of the “war on terror\,” the image of the criminal and anti-social young black male has mutated into the image of the black patriot\, at war against a new enemy of the nation\, the Muslim terrorist. Exploring the figure of the black soldier\, her work asks the questions: What kind of popular culture is made in the context of war? How do notions of civil rights shift in a post-Civil Rights era? And when and how are such notions mobilized in service to violent and racist conceptions of Iraqis\, Arabs\, and other Muslims? In his commentary\, Visiting Scholar Anamik Saha will draw upon his research on popular cultural representations of South Asians and Muslims in Britain during the same period. \nCynthia Young is an Associate Professor of English and African and African Diaspora Studies at Boston College where she teaches courses on literature and popular culture. She received her B.A. from Columbia University and her Ph.D. in American Studies from Yale University. Her book on U.S. Third World Leftists\, Soul Power\, was published by Duke University Press in 2006. She is currently working on a project that considers race\, specifically blackness\, after the September 11 attacks. Interrogating popular culture and political organizing sites\, this project considers how the Civil Rights legacy has been hijacked by Conservatives supporting an anti-immigrant\, pro-war and often white supremacist agenda.
URL:https://cms.mit.edu/event/race-representation-after-9-11/
LOCATION:MIT Building 2\, Room 105\, 182 Memorial Drive\, Cambridge\, MA\, 02139\, United States
CATEGORIES:Colloquium
ATTACH;FMTTYPE=image/jpeg:https://cms.mit.edu/wp/wp-content/uploads/2011/05/cahillulrichyoung.jpg
END:VEVENT
END:VCALENDAR