BEGIN:VCALENDAR
VERSION:2.0
PRODID:-//MIT Graduate Program in Comparative Media Studies - ECPv5.16.1//NONSGML v1.0//EN
CALSCALE:GREGORIAN
METHOD:PUBLISH
X-WR-CALNAME:MIT Graduate Program in Comparative Media Studies
X-ORIGINAL-URL:https://cms.mit.edu
X-WR-CALDESC:Events for MIT Graduate Program in Comparative Media Studies
REFRESH-INTERVAL;VALUE=DURATION:PT1H
X-Robots-Tag:noindex
X-PUBLISHED-TTL:PT1H
BEGIN:VTIMEZONE
TZID:America/New_York
BEGIN:DAYLIGHT
TZOFFSETFROM:-0500
TZOFFSETTO:-0400
TZNAME:EDT
DTSTART:20210314T070000
END:DAYLIGHT
BEGIN:STANDARD
TZOFFSETFROM:-0400
TZOFFSETTO:-0500
TZNAME:EST
DTSTART:20211107T060000
END:STANDARD
END:VTIMEZONE
BEGIN:VEVENT
DTSTART;TZID=America/New_York:20210923T170000
DTEND;TZID=America/New_York:20210923T183000
DTSTAMP:20260421T150557
CREATED:20210907T190528Z
LAST-MODIFIED:20210915T145701Z
UID:37562-1632416400-1632421800@cms.mit.edu
SUMMARY:Sulafa Zidani\, “Messy on the Inside: Internet Memes as Mapping Tools of Everyday Life”
DESCRIPTION:Attending in person: If you are not an MIT community member enrolled in MIT Covid Pass\, you must register for this event at least 24 hours in advance. Email cms@mit.edu with your phone number and email address to register. You will not be able to enter the building without prior registration. \n\n\n\nStreaming: This event will be available live on Zoom (mit.zoom.us/j/96579656038) and recorded. \n\n\n\n\n\n\n\n\nWith the proliferation of social media\, internet memes have become a ubiquitous part of everyday communication. However\, the power of memes cannot be fully understood without considering their role in the complex relationship between technology\, space\, and politics. This talk will conceptualize memes as cultural mapping tools—tools that chart out the cultural hierarchies in relation to spatial and political relations for their makers and users. Focusing on memes made by Palestinians in mixed cities\, new Comparative Media Studies/Writing faculty member Sulafa Zidani will explore how memes function both in navigating the contested cultural and spatial politics and carving out space in the cultural landscape for youths’ aspirations. She concludes by discussing what we can learn from the absences in the memes\, and how using memes as mapping tools can help us understand the cultural and political landscape in which meme makers operate. \n\n\n\n\nAs a scholar of digital culture\, Sulafa Zidani writes on global creative practices in online civic engagement across geopolitical contexts and languages such as Mandarin\, English\, Arabic\, Hebrew\, and French. She has published on online culture mixing\, Arab and Chinese media politics\, and critical transnational pedagogy in venues such as Social Media + Society; Asian Communication Research; Media\, Culture & Society; International Journal of Communication\, and others. She is the co-editor of the forthcoming anthology\, The Intersectional Internet II: Power\, Politics and Resistance Online. Outside of the academy\, Zidani is an accomplished public educator. As a facilitator for the Seachange Collective\, she has led workshops on antiracism and social justice for organizations such as NowThis\, Gimlet Media\, The Onion\, and The Writers Guild of America. Her public writing on popular culture and politics has appeared in Arabic and Anglophone publications.
URL:https://cms.mit.edu/event/sulafa-zidani-internet-meme-mapping-tools/
LOCATION:MIT Building 56\, Room 114\, Access via 21 Ames Street\, Cambridge\, MA\, 02139\, United States
CATEGORIES:Colloquium
ATTACH;FMTTYPE=image/jpeg:https://cms.mit.edu/wp/wp-content/uploads/2021/07/Sulafa-Zidani-square.jpg
END:VEVENT
BEGIN:VEVENT
DTSTART;TZID=America/New_York:20210930T170000
DTEND;TZID=America/New_York:20210930T183000
DTSTAMP:20260421T150557
CREATED:20210824T135528Z
LAST-MODIFIED:20210929T164525Z
UID:37508-1633021200-1633026600@cms.mit.edu
SUMMARY:Victoria Cain\, “Educated Viewers: Civic Spectatorship\, Media Literacy\, and American Schools”
DESCRIPTION:In-person attendance: Only MIT community members enrolled in Covid Pass may attend in-person. Your MIT ID will be scanned when you arrive. \n\n\n\nStreaming: This event will be available live on Zoom (mit.zoom.us/j/96579656038) and recorded. \n\n\n\n\n\n\n\nIn this talk\, Victoria Cain provides a brief overview of some of the themes of her new book\, Schools and Screens: A Watchful History\, and a deeper dive into a few defining experiments with educational media in twentieth century US schools. Her talk will focus on the struggle of successive generations of education reformers who attempted to meet massive social and economic crises through careful instruction in media viewing and collective discussion. Cain will consider how and why these reformers came to conclude that “civic spectatorship” was essential to modern education and democratic participation\, and reflect on the significance of their experiments for schools today.  \n\n\n\n\nVictoria Cain teaches in the Department of History at Northeastern University. She is the author of Schools and Screens: A Watchful History (MIT\, 2021)\, as well as numerous articles and chapters on media\, technology and education\, and the co-author\, with Karen Rader\, of Life on Display: Revolutionizing U.S. Museums of Science and Natural History (Chicago\, 2014). Her newest project explores the history and politics of adolescent privacy.
URL:https://cms.mit.edu/event/victoria-cain-educated-viewers-civic-spectatorship-american-schools/
LOCATION:Zoom\, and (for MIT only) E15-318 Common Area\, 20 Ames Street\, Cambridge\, Massachusetts\, 02139\, United States
CATEGORIES:Colloquium
ATTACH;FMTTYPE=image/jpeg:https://cms.mit.edu/wp/wp-content/uploads/2021/08/Victoria-Cain-square.jpg
END:VEVENT
END:VCALENDAR