BEGIN:VCALENDAR
VERSION:2.0
PRODID:-//MIT Graduate Program in Comparative Media Studies - ECPv5.16.1//NONSGML v1.0//EN
CALSCALE:GREGORIAN
METHOD:PUBLISH
X-WR-CALNAME:MIT Graduate Program in Comparative Media Studies
X-ORIGINAL-URL:https://cms.mit.edu
X-WR-CALDESC:Events for MIT Graduate Program in Comparative Media Studies
REFRESH-INTERVAL;VALUE=DURATION:PT1H
X-Robots-Tag:noindex
X-PUBLISHED-TTL:PT1H
BEGIN:VTIMEZONE
TZID:America/New_York
BEGIN:DAYLIGHT
TZOFFSETFROM:-0500
TZOFFSETTO:-0400
TZNAME:EDT
DTSTART:20200308T070000
END:DAYLIGHT
BEGIN:STANDARD
TZOFFSETFROM:-0400
TZOFFSETTO:-0500
TZNAME:EST
DTSTART:20201101T060000
END:STANDARD
END:VTIMEZONE
BEGIN:VEVENT
DTSTART;TZID=America/New_York:20200903T120000
DTEND;TZID=America/New_York:20200903T124500
DTSTAMP:20260424T225242
CREATED:20200821T135753Z
LAST-MODIFIED:20200821T140359Z
UID:35774-1599134400-1599137100@cms.mit.edu
SUMMARY:Not Funny Anymore: Deepfakes\, Manipulated Media\, and Mis/disinformation
DESCRIPTION:Deepfakery: A Livestream Talk Series and Exploration of Critical Questions
URL:https://cms.mit.edu/event/not-funny-anymore-deepfakes-manipulated-media-and-mis-disinformation/
CATEGORIES:Deepfakery
ATTACH;FMTTYPE=image/png:https://cms.mit.edu/wp/wp-content/uploads/2020/08/DEEPFAKERY_header_new-1024x576-1.png
ORGANIZER;CN="Open%20Documentary%20Lab":MAILTO:opendoclab-contact@mit.edu
END:VEVENT
BEGIN:VEVENT
DTSTART;TZID=America/New_York:20200908T120000
DTEND;TZID=America/New_York:20200908T133000
DTSTAMP:20260424T225242
CREATED:20200821T135753Z
LAST-MODIFIED:20200821T140426Z
UID:35776-1599566400-1599571800@cms.mit.edu
SUMMARY:Using AI-generated Face Doubles in Documentary: Welcome to Chechnya
DESCRIPTION:Deepfakery: A Livestream Talk Series and Exploration of Critical Questions
URL:https://cms.mit.edu/event/using-ai-generated-face-doubles-in-documentary-welcome-to-chechnya/
CATEGORIES:Deepfakery
ATTACH;FMTTYPE=image/png:https://cms.mit.edu/wp/wp-content/uploads/2020/08/DEEPFAKERY_header_new-1024x576-1.png
ORGANIZER;CN="Open%20Documentary%20Lab":MAILTO:opendoclab-contact@mit.edu
END:VEVENT
BEGIN:VEVENT
DTSTART;TZID=America/New_York:20200910T170000
DTEND;TZID=America/New_York:20200910T183000
DTSTAMP:20260424T225242
CREATED:20200818T205016Z
LAST-MODIFIED:20201014T152412Z
UID:35743-1599757200-1599762600@cms.mit.edu
SUMMARY:CMS graduate student administrivia session
DESCRIPTION:A roundtable co-hosted by Academic Administrator Shannon Larkin and Ladybird\, this first Colloquium of the semester is for CMS graduate students to learn everything they need to know about completing a master’s degree but were afraid to ask. \n\n\n\nAttendees may want to take a look at the CMS Student Resources page for ideas of the range of things they might bring up with Shannon and each other.
URL:https://cms.mit.edu/event/cms-graduate-student-administrivia-session/
ATTACH;FMTTYPE=image/png:https://cms.mit.edu/wp/wp-content/uploads/2020/08/This-Is-Gonna-Be-Fun.png
END:VEVENT
BEGIN:VEVENT
DTSTART;TZID=America/New_York:20200917T120000
DTEND;TZID=America/New_York:20200917T124500
DTSTAMP:20260424T225242
CREATED:20200821T135753Z
LAST-MODIFIED:20200821T141145Z
UID:35778-1600344000-1600346700@cms.mit.edu
SUMMARY:Boundary Lines? Deepfakes Weaponized Against Journalists and Activists
DESCRIPTION:Deepfakery: A Livestream Talk Series and Exploration of Critical Questions
URL:https://cms.mit.edu/event/boundary-lines-deepfakes-weaponized-against-journalists-and-activists/
CATEGORIES:Deepfakery
ATTACH;FMTTYPE=image/png:https://cms.mit.edu/wp/wp-content/uploads/2020/08/DEEPFAKERY_header_new-1024x576-1.png
ORGANIZER;CN="Open%20Documentary%20Lab":MAILTO:opendoclab-contact@mit.edu
END:VEVENT
BEGIN:VEVENT
DTSTART;TZID=America/New_York:20200917T170000
DTEND;TZID=America/New_York:20200917T183000
DTSTAMP:20260424T225242
CREATED:20200820T124814Z
LAST-MODIFIED:20201023T155643Z
UID:35757-1600362000-1600367400@cms.mit.edu
SUMMARY:Kishonna Gray\, "Intersectional Tech: Exploring the Black Cultural Production of Gamers in Transmediated Culture"
DESCRIPTION:[Streamed live at https://mit.zoom.us/j/94087151099.] \n\n\n\n\nWith this presentation\, Dr. Kishonna Gray illustrates a framework for studying the intersectional development of technological artifacts and systems and their impact on Black cultural production and social processes. Using gaming as the glue that binds this project\, she puts forth intersectional tech as a framework to make sense of the visual\, textual\, and oral engagements of marginalized users\, exploring the complexities in which they create\, produce\, and sustain their practices. Gaming\, as a medium often outside conversations on Blackness and digital praxis\, is one that is becoming more visible\, viable\, and legible in making sense of Black technoculture. Intersectional tech implores us to make visible the force of discursive practices that position practices within (dis)orderly social hierarchies and arrangements. The explicit formulations of the normative order are sometimes in disagreement with the concrete human condition as well as inconsistent with the consumption and production practices that constitute Black digital labor. It is\, in fact\, these practices that inform the theoretical underpinnings of Black performances\, cultural production\, exploited labor\, and resistance strategies inside oppressive technological structures that Black users reside. \n\n\n\n\nEngaging intersectionality across transmediated platforms reveals a significant moment of critiquing narratives\, creating content\, and controlling narratives. The aftermath of Mike Brown’s death in 2014\, for instance\, revealed the power of this innovative engagement that the once-invisible could now actively engage\, participate\, and produce content in hypervisible ways. In the context of #BlackLivesMatter\, the combination of the textual and the visual ignited not only a movement\, but a proclamation of reclaiming narratives and identities across media and platforms – from BlackLivesMatter to Black-ish to “The Breakfast Club.” It is important to examine the everydayness of mediated\, intersectional\, counterpublics to examine Black oral\, visual\, and textual culture in digital spaces and how this manifests within gaming culture. The transmediated nature of contemporary gaming communities affords the possibility of reframing traditional narratives\, controlling and producing content\, sustaining Black cultural production. \n\n\n\nDr. Kishonna L. Gray (@kishonnagray) is an assistant professor in the Department of Communication and Gender and Women’s Studies at the University of Illinois – Chicago. Dr. Gray is an interdisciplinary\, intersectional\, digital media scholar and digital herstorian whose areas of research include identity\, performance and online environments\, embodied deviance\, cultural production\, video games\, and Black Cyberfeminism. Dr. Gray’s recent monograph\, Intersectional Tech: The Transmediated Praxis of Black Users in Digital Gaming (LSU Press\, 2020) explores the visual\, textual\, and/or oral engagement of the Black body in transmediated spaces\, focusing on the critical deconstruction of the exploited\, hypervisible\, labor of any associated Black performances (online and ‘IRL’). \n\n\n\nShe is also the author of Race\, Gender\, & Deviance in Xbox Live (Routledge\, 2014) co-editor of Feminism in Play (Palgrave-Macmillan\, 2018) and Woke Gaming (University of Washington Press\, 2018). Dr. Gray has published in a variety of outlets across disciplines and has also been featured in public outlets such as The Guardian\, The Telegraph\, The New York Times\, Business Insider\, CNET\, BET\, and others.
URL:https://cms.mit.edu/event/kishonna-gray-intersectional-tech-black-cultural-production-gamers/
CATEGORIES:Colloquium
ATTACH;FMTTYPE=image/jpeg:https://cms.mit.edu/wp/wp-content/uploads/2020/08/Kishonna-Gray-2020.jpg
END:VEVENT
BEGIN:VEVENT
DTSTART;TZID=America/New_York:20200924T120000
DTEND;TZID=America/New_York:20200924T124500
DTSTAMP:20260424T225242
CREATED:20200821T135753Z
LAST-MODIFIED:20200821T141058Z
UID:35780-1600948800-1600951500@cms.mit.edu
SUMMARY:Manipulating Memories: Archives\, History and Deepfakes
DESCRIPTION:Deepfakery: A Livestream Talk Series and Exploration of Critical Questions
URL:https://cms.mit.edu/event/manipulating-memories-archives-history-and-deepfakes/
CATEGORIES:Deepfakery
ATTACH;FMTTYPE=image/png:https://cms.mit.edu/wp/wp-content/uploads/2020/08/DEEPFAKERY_header_new-1024x576-1.png
ORGANIZER;CN="Open%20Documentary%20Lab":MAILTO:opendoclab-contact@mit.edu
END:VEVENT
BEGIN:VEVENT
DTSTART;TZID=America/New_York:20200924T170000
DTEND;TZID=America/New_York:20200924T183000
DTSTAMP:20260424T225242
CREATED:20200814T165134Z
LAST-MODIFIED:20201023T145301Z
UID:35690-1600966800-1600972200@cms.mit.edu
SUMMARY:Justin Reich\, "Failure to Disrupt: Why Technology Alone Can't Transform Education"
DESCRIPTION:[Streamed live at https://mit.zoom.us/j/94087151099.] \n\n\n\n\nIn the 2000s and 2010s\, education technology evangelists promised that new learning media would transform schooling and education. Then\, a pandemic shut down schools all over the world\, and online learning face a pivotal moment\, and left a global public mostly disappointed. Instead of adaptive tutors\, artificial intelligence\, MOOCs or other new technologies\, most learners got digital worksheets on learning management systems and ZOOM lecturers. Failure to Disrupt: Why Technology Alone Can’t Transform Education explores the recent history of large scale learning technologies to explain why technology provides such uneven support—useful in some contexts but not others\, to some people but not others—to learners. The book concludes by examining four as-yet intractable dilemmas that learning media researchers and designers can use to identify persistent challenges in using technology to accelerate human learning. \n\n\n\n\nJustin Reich is the Mitsui Career Development Professor of Comparative Media at MIT\, and the director of the MIT Teaching Systems Lab. He is the host of the TeachLab podcast\, the author of the forthcoming book Failure to Disrupt: Why Technology Alone Can’t Transform Education from Harvard University Press\, and the instructor for six massive open online courses on EdX and available through the MIT Open Learning Library. 
URL:https://cms.mit.edu/event/justin-reich-failure-to-disrupt-why-technology-alone-cant-transform-education/
ATTACH;FMTTYPE=image/jpeg:https://cms.mit.edu/wp/wp-content/uploads/2017/09/Justin-Reich.jpg
END:VEVENT
END:VCALENDAR