BEGIN:VCALENDAR
VERSION:2.0
PRODID:-//MIT Graduate Program in Comparative Media Studies - ECPv5.16.1//NONSGML v1.0//EN
CALSCALE:GREGORIAN
METHOD:PUBLISH
X-WR-CALNAME:MIT Graduate Program in Comparative Media Studies
X-ORIGINAL-URL:https://cms.mit.edu
X-WR-CALDESC:Events for MIT Graduate Program in Comparative Media Studies
REFRESH-INTERVAL;VALUE=DURATION:PT1H
X-Robots-Tag:noindex
X-PUBLISHED-TTL:PT1H
BEGIN:VTIMEZONE
TZID:America/New_York
BEGIN:DAYLIGHT
TZOFFSETFROM:-0500
TZOFFSETTO:-0400
TZNAME:EDT
DTSTART:20160313T070000
END:DAYLIGHT
BEGIN:STANDARD
TZOFFSETFROM:-0400
TZOFFSETTO:-0500
TZNAME:EST
DTSTART:20161106T060000
END:STANDARD
END:VTIMEZONE
BEGIN:VEVENT
DTSTART;TZID=America/New_York:20160202T170000
DTEND;TZID=America/New_York:20160202T170000
DTSTAMP:20260421T204452
CREATED:20160128T141546Z
LAST-MODIFIED:20160128T144204Z
UID:26649-1454432400-1454432400@cms.mit.edu
SUMMARY:John Jennings: "The Cipher Back to Here"
DESCRIPTION:John JenningsState University of New York at Buffalo\nJohn Jennings is an Associate Professor of Art and Visual Studies at the University at Buffalo-State University of New York. He is the co-author of the graphic novel The Hole: Consumer Culture\, Vol. 1 and the art collection Black Comix: African American Independent Comics Art and Culture (both with Damian Duffy). Jennings is also the co-editor of The Blacker the Ink: Constructions of Black Identity in Comics and Sequential Art and co-founder/organizer of The Schomburg Center’s Black Comic Book Festival in Harlem\, MLK NorCal’s Black Comix Arts Festival in San Francisco\, and the AstroBlackness colloquium in Los Angeles at Loyola Marymount University. Jennings’ current comics projects include the Hiphop adventure comic Kid Code: Channel Zero\, the supernatural crime noir story Blue Hand Mojo\, and the upcoming graphic novel adaptation of Octavia Butler’s classic dark fantasy novel Kindred.
URL:https://cms.mit.edu/event/john-jennings-cipher-back-to-here/
LOCATION:MIT Media Lab\, Room 633\, 75 Amherst St.\, Cambridge\, MA\, 02139\, United States
ATTACH;FMTTYPE=image/jpeg:https://cms.mit.edu/wp/wp-content/uploads/2016/01/John-Jennings.jpg
END:VEVENT
BEGIN:VEVENT
DTSTART;TZID=America/New_York:20160204T170000
DTEND;TZID=America/New_York:20160204T170000
DTSTAMP:20260421T204452
CREATED:20160126T164259Z
LAST-MODIFIED:20160208T125222Z
UID:26644-1454605200-1454605200@cms.mit.edu
SUMMARY:Amanda Lotz: "Television Didn't Die: But Broadband Distribution Revolutionized It"
DESCRIPTION:Amanda Lotz University of Michigan\nBeginning in the late 1990s\, the technology and even mainstream press opined extensively on the coming death of television. A decade later—and a time that found television still very much alive—that theme evolved to instead pronounce the coming death of cable. Rather than demise\, the emergence of broadband-distributed television has both reinvented the medium and revealed how extensively our expectations and understandings of television are based not on the medium of television but on logics developed for its broadcast distribution. \nAmanda D. Lotz’s talk presents key arguments of her current book project\, Being Wired: How Cable Transformed Television and the Internet Revolutionized It All with a focus on what transpired when the long anticipated face off between “new media” and television finally took place in 2010. \nLotz is professor in the Departments of Communication Studies and Screen Arts and Cultures at the University of Michigan where she studies contemporary media industries\, television\, and gender and media. She is the author of The Television Will Be Revolutionized (New York University Press\, 2007; Rev. 2nd ed. 2014)\, Cable Guys: Television and American Masculinities in the 21st Century(2014)\, and Redesigning Women: Television After the Network Era (University of Illinois Press\, 2006)\, and editor of Beyond Prime Time: Television Programming in the Post-Network Era (Routledge\, 2009). She is co-author\, with Timothy Havens\, of Understanding Media Industries (Oxford University Press\, 2011; 2nd ed. 2016) and\, with Jonathan Gray\, of Television Studies (Polity\, 2011). Her current work examines how cable changed television and became the dominant supplier of internet access in the early twenty-first century.
URL:https://cms.mit.edu/event/amanda-lotz-television-didnt-die-but-broadband-distribution-revolutionized-it/
LOCATION:MIT Building 56\, Room 114\, Access via 21 Ames Street\, Cambridge\, MA\, 02139\, United States
ATTACH;FMTTYPE=image/jpeg:https://cms.mit.edu/wp/wp-content/uploads/2016/01/Amanda-Lotz.jpg
END:VEVENT
BEGIN:VEVENT
DTSTART;TZID=America/New_York:20160211T170000
DTEND;TZID=America/New_York:20160211T170000
DTSTAMP:20260421T204452
CREATED:20160105T195341Z
LAST-MODIFIED:20160105T195341Z
UID:26590-1455210000-1455210000@cms.mit.edu
SUMMARY:Is There a Future for In-Depth Science Journalism?
DESCRIPTION:Traditional media outlets have been facing budget cuts and layoffs for years\, with specialized reporters often among the first to go. And yet last year\, Boston Globe Media Partners made a significant investment in launching STAT\, a new publication that focuses on health\, medicine and scientific discovery. STAT‘s leadership and reporting team will discuss the publication’s progress and how the field of science journalism is changing. \nSpeakers \nRick Berke is the executive editor of STAT and former executive editor of POLITICO. Berke joined The New York Times in 1986 and served as a political correspondent and senior editor for nearly three decades. \nCarl Zimmer is a national correspondent for STAT and hosts the site’s “Science Happens” video series. Zimmer also writes the “Matter” column at The New York Times and has written 12 books including Soul Made Flesh\, which was named as a New York Times Notable Book of the Year. \nRebecca Robbins is a reporter for STAT covering money in life sciences. \nModerator: Seth Mnookin\, associate director of MIT’s Graduate Program in Science Writing and author of The Panic Virus: The True Story Behind the Vaccine-Autism Controversy.
URL:https://cms.mit.edu/event/is-there-a-future-for-in-depth-science-journalism/
LOCATION:MIT Building 3\, Room 270\, 33 Massachusetts Ave (Rear)\, Cambridge\, MA\, 02319\, United States
CATEGORIES:Communications Forum
ATTACH;FMTTYPE=image/png:https://cms.mit.edu/wp/wp-content/uploads/2007/01/mit-comm-forum_logo_square.png
END:VEVENT
BEGIN:VEVENT
DTSTART;TZID=America/New_York:20160211T170000
DTEND;TZID=America/New_York:20160211T170000
DTSTAMP:20260421T204452
CREATED:20160128T141545Z
LAST-MODIFIED:20160208T162143Z
UID:26648-1455210000-1455210000@cms.mit.edu
SUMMARY:Lisa Parks: "Drone Matters: Vertical Mediation in the Horn of Africa"
DESCRIPTION:Lisa ParksUniversity of California\, Santa Barbara\nSince 2002\, the US Joint Special Operations Command (JSOC) and CIA have orchestrated a covert drone war from Camp Lemonier in the African country of Djibouti\, monitoring and striking alleged al-Qaeda and Al-Shabaab suspects in Yemen and Somalia. As a media scholar\, UC Santa Barbara’s Lisa Parks is interested both in the discourses that have been used to expose covert US drone interventions and in the ways that drone operations themselves function as technologies of mediation. Drawing upon media such as training manual diagrams\, infrared images\, Google Earth interfaces\, and drone crash scene photos\, this talk explores the drone’s mediating work through three registers: the infrastructural\, the perceptual\, and the forensic. Focusing on maneuvers between the ground and sky\, Parks suggest that military drone operations are irreducible to the screen’s display and should be understood as practices of vertical mediation–as practices of communication and materialization that occur dynamically through the vertical field\, and\, as such\, have particular kinds of affects. The talk based on a chapter of her forthcoming book\, Coverage: Vertical Mediation and the War on Terror. \nLisa Parks is Professor in the Film and Media Studies Department at UC Santa Barbara. She is the author of Cultures in Orbit: Satellites and the Televisual (Duke UP\, 2005) and Coverage: Vertical Mediation and the War on Terror (Routledge\, forthcoming)\, and is co-editor of Signal Traffic: Critical Studies of Media Infrastructures (U of Illinois\, 2015)\, Down to Earth: Satellite Technologies\, Industries and Cultures (Rutgers UP\, 2012)\, Undead TV (Duke UP\, 2007)\, Planet TV: A Global Television Reader (NYU\, 2003)\, and another in progress entitled Life in the Age of Drones (under contract\, Duke UP). Parks has held visiting appointments at the Institute for Advanced Study (Wissenschaftskolleg) in Berlin\, McGill University\, University of Southern California\, and the Annenberg School of Communication at the University of Pennsylvania. She is currently a principal investigator on research grants from the National Science Foundation and the US State Department.
URL:https://cms.mit.edu/event/lisa-parks-drone-matters-vertical-mediation-in-the-horn-of-africa/
LOCATION:MIT Building 56\, Room 114\, Access via 21 Ames Street\, Cambridge\, MA\, 02139\, United States
CATEGORIES:Colloquium
ATTACH;FMTTYPE=image/jpeg:https://cms.mit.edu/wp/wp-content/uploads/2016/01/Lisa-Parks.jpg
END:VEVENT
BEGIN:VEVENT
DTSTART;TZID=America/New_York:20160218T170000
DTEND;TZID=America/New_York:20160218T170000
DTSTAMP:20260421T204452
CREATED:20160115T162252Z
LAST-MODIFIED:20160120T174615Z
UID:26614-1455814800-1455814800@cms.mit.edu
SUMMARY:Caroline Jack: "How Facts Survive in Public Service Media"
DESCRIPTION:Caroline Jack\, CMS/W Exchange Scholar and Ph.D. candidate in the Department of Communication at Cornell University\nEconomic literacy has long been touted as a potential solution to national economic crisis and individual financial precarity. But what does it mean to be economically literate? In a field full of contestation\, how do some perspectives get disqualified or excluded\, and others held up as facts? Between 1976 and 1978\, the nonprofit\, quasi-governmental public service advertising organization The Advertising Council saturated the American media environment with messages about American citizens’ responsibility to become economically knowledgeable\, and distributed over ten million copies of a glossy brochure designed to teach citizens the least they needed to know about the American economic system. Activist groups criticized the Ad Council campaign as propagandistic–but when these groups responded with their own information campaigns\, they found themselves excluded from access to public funds and airwaves. Where was the line between objective information and propaganda? Who had the power to decide? How has this dynamic changed over time\, as new media technologies have emerged and neoliberal policies and philosophies have moved from the margins to the center of American political culture? In this talk\, Jack calls attention to corporate managers and executives as consequential social and ontological actors with distinctive vernacular theories of media and politics. \nCaroline Jack is an Exchange Scholar in CMS/W and a Doctoral Candidate in the Department of Communication at Cornell University. Her article “Fun and Facts about American Business: Economic Education and Business Propaganda in an Early Cold War Cartoon Series” was recently published in Enterprise and Society.
URL:https://cms.mit.edu/event/caroline-jack-how-facts-survive-in-public-service-media/
LOCATION:MIT Building 56\, Room 114\, Access via 21 Ames Street\, Cambridge\, MA\, 02139\, United States
CATEGORIES:Colloquium
ATTACH;FMTTYPE=image/jpeg:https://cms.mit.edu/wp/wp-content/uploads/2016/01/Vintage-CRT-television.jpg
END:VEVENT
BEGIN:VEVENT
DTSTART;TZID=America/New_York:20160225T170000
DTEND;TZID=America/New_York:20160225T170000
DTSTAMP:20260421T204452
CREATED:20160115T150419Z
LAST-MODIFIED:20160115T150503Z
UID:26611-1456419600-1456419600@cms.mit.edu
SUMMARY:Vincent Brown: "Designing Histories of Slavery for the Database Age"
DESCRIPTION:Vincent BrownCharles Warren Professor of History\, Professor of African and African-American Studies\, and Director of the History Design Studio at Harvard University\nMultimedia scholarship invites reconsideration of how history has been\, could be\, and should be represented. By wrestling creatively and collectively with the difficult archival problems presented by social history of slavery\, Harvard’s Vincent Brown hopes to chart new pathways for pondering history’s most painful and vexing subjects. This presentation considers three graphic histories of slavery — a web-based animation of Voyages: The Transatlantic Slave Trade Database\, a cartographic narrative of the Jamaican slave revolt of 1760-61\, and a web-based archive of enslaved family lineages in Jamaica and Virginia — that illustrate how the archive of slavery is more than the records bequeathed to us by the past; the archive also includes the tools we use to explore it\, the vision that allows us to see its traces\, and the design decisions that communicate our sense of history’s possibilities. \nMulti-media historian Vincent Brown is Charles Warren Professor of History\, Professor of African and African-American Studies\, and Director of the History Design Studio at Harvard University. His research\, writing\, teaching\, and other creative endeavors are focused on the political dimensions of cultural practice.
URL:https://cms.mit.edu/event/vincent-brown-designing-histories-of-slavery-for-the-database-age/
LOCATION:MIT Building 56\, Room 114\, Access via 21 Ames Street\, Cambridge\, MA\, 02139\, United States
CATEGORIES:Colloquium
ATTACH;FMTTYPE=image/jpeg:https://cms.mit.edu/wp/wp-content/uploads/2016/01/Vincent-Brown.jpg
END:VEVENT
END:VCALENDAR