BEGIN:VCALENDAR
VERSION:2.0
PRODID:-//MIT Graduate Program in Comparative Media Studies - ECPv5.16.1//NONSGML v1.0//EN
CALSCALE:GREGORIAN
METHOD:PUBLISH
X-ORIGINAL-URL:https://cms.mit.edu
X-WR-CALDESC:Events for MIT Graduate Program in Comparative Media Studies
REFRESH-INTERVAL;VALUE=DURATION:PT1H
X-Robots-Tag:noindex
X-PUBLISHED-TTL:PT1H
BEGIN:VTIMEZONE
TZID:America/New_York
BEGIN:DAYLIGHT
TZOFFSETFROM:-0500
TZOFFSETTO:-0400
TZNAME:EDT
DTSTART:20060402T070000
END:DAYLIGHT
BEGIN:STANDARD
TZOFFSETFROM:-0400
TZOFFSETTO:-0500
TZNAME:EST
DTSTART:20061029T060000
END:STANDARD
END:VTIMEZONE
BEGIN:VEVENT
DTSTART;TZID=America/New_York:20061026T170000
DTEND;TZID=America/New_York:20061026T190000
DTSTAMP:20260424T074952
CREATED:20150325T183745Z
LAST-MODIFIED:20151113T200843Z
UID:21248-1161882000-1161889200@cms.mit.edu
SUMMARY:New Media and Art
DESCRIPTION:This roundtable is made up of leading figures in the field of media art curators\, authors\, network directors\, and innovative developers who will address the current issues on art in the age of digital reproduction. Speakers: Lauren Cornell\, director of Rhizome.org; Jon Ippolito\, media artist\, curator\, author; and Mark Tribe\, founder of Rhizome and professor of media arts at Brown University.
URL:https://cms.mit.edu/event/new-media-and-art/
LOCATION:MIT Building 2\, Room 105\, 182 Memorial Drive\, Cambridge\, MA\, 02139\, United States
CATEGORIES:Communications Forum
ATTACH;FMTTYPE=image/jpeg:https://cms.mit.edu/wp/wp-content/uploads/2006/10/LaurenCornell_2010.jpg
END:VEVENT
END:VCALENDAR