BEGIN:VCALENDAR
VERSION:2.0
PRODID:-//MIT Graduate Program in Comparative Media Studies - ECPv5.16.1//NONSGML v1.0//EN
CALSCALE:GREGORIAN
METHOD:PUBLISH
X-WR-CALNAME:MIT Graduate Program in Comparative Media Studies
X-ORIGINAL-URL:https://cms.mit.edu
X-WR-CALDESC:Events for MIT Graduate Program in Comparative Media Studies
REFRESH-INTERVAL;VALUE=DURATION:PT1H
X-Robots-Tag:noindex
X-PUBLISHED-TTL:PT1H
BEGIN:VTIMEZONE
TZID:America/New_York
BEGIN:DAYLIGHT
TZOFFSETFROM:-0500
TZOFFSETTO:-0400
TZNAME:EDT
DTSTART:20060402T070000
END:DAYLIGHT
BEGIN:STANDARD
TZOFFSETFROM:-0400
TZOFFSETTO:-0500
TZNAME:EST
DTSTART:20061029T060000
END:STANDARD
END:VTIMEZONE
BEGIN:VEVENT
DTSTART;TZID=America/New_York:20060919T170000
DTEND;TZID=America/New_York:20060919T170000
DTSTAMP:20260424T111724
CREATED:20170530T233059Z
LAST-MODIFIED:20170609T124545Z
UID:30275-1158685200-1158685200@cms.mit.edu
SUMMARY:The Emergence of Citizens' Media
DESCRIPTION:This is the first forum in the Will Newspapers Survive? series presented by the MIT Communications Forum. The Emergence of Citizen’s Media features Alex Beam of the Boston Globe\, Ellen Foley from the Wisconsin State Journal and Dan Gillmor\, founder of the Center for Citizen Media. \nThe MIT Communications Forum hosts a summary of the event and our own Sam Ford wrote an article for the CMS page in October.
URL:https://cms.mit.edu/event/emergence-citizens-media/
LOCATION:MIT Media Lab\, Bartos Theater\, 20 Ames Street\, Cambridge\, MA\, 02139\, United States
CATEGORIES:Communications Forum
ATTACH;FMTTYPE=image/jpeg:https://cms.mit.edu/wp/wp-content/uploads/2017/05/print_readers2.jpg
ORGANIZER;CN="MIT%20Communications%20Forum":MAILTO:couch@mit.edu
END:VEVENT
END:VCALENDAR