BEGIN:VCALENDAR
VERSION:2.0
PRODID:-//MIT Graduate Program in Comparative Media Studies - ECPv5.16.1//NONSGML v1.0//EN
CALSCALE:GREGORIAN
METHOD:PUBLISH
X-WR-CALNAME:MIT Graduate Program in Comparative Media Studies
X-ORIGINAL-URL:https://cms.mit.edu
X-WR-CALDESC:Events for MIT Graduate Program in Comparative Media Studies
REFRESH-INTERVAL;VALUE=DURATION:PT1H
X-Robots-Tag:noindex
X-PUBLISHED-TTL:PT1H
BEGIN:VTIMEZONE
TZID:America/New_York
BEGIN:DAYLIGHT
TZOFFSETFROM:-0500
TZOFFSETTO:-0400
TZNAME:EDT
DTSTART:20070311T070000
END:DAYLIGHT
BEGIN:STANDARD
TZOFFSETFROM:-0400
TZOFFSETTO:-0500
TZNAME:EST
DTSTART:20071104T060000
END:STANDARD
END:VTIMEZONE
BEGIN:VEVENT
DTSTART;TZID=America/New_York:20070405T170000
DTEND;TZID=America/New_York:20070405T170000
DTSTAMP:20260422T064101
CREATED:20141208T161955Z
LAST-MODIFIED:20141208T162007Z
UID:21271-1175792400-1175792400@cms.mit.edu
SUMMARY:Evangelicals and the Media
DESCRIPTION:American evangelicals have a long history of engagement with the media\, dating back to Great Awakening of the late eighteenth century. Today evangelical groups are active in all media\, from the Internet and cellular telephones to print journalism\, broadcasting\, film\, and multi-media entertainment. In this Forum\, our speakers discuss the social and political impact of the evangelical movement’s use of media technologies. Gary Schneeberger is special assistant for media relations to James Dobson\, founder and chairman of the evangelical group Focus on the Family (www.family.org). Diane Winston is the Knight Chair in Media and Religion in the USC Annenberg School for Communication and author of Red-Hot and Righteous: The Urban Religion of the Salvation Army. The Forum will be moderated by the Rev. Amy McCreath\, MIT’s Episcopal chaplain and coordinator of the Technology and Culture Forum at MIT (web.mit.edu/tac).
URL:https://cms.mit.edu/event/evangelicals-and-media/
LOCATION:MIT Building 3\, Room 270\, 33 Massachusetts Ave (Rear)\, Cambridge\, MA\, 02319\, United States
CATEGORIES:Communications Forum
ATTACH;FMTTYPE=image/png:https://cms.mit.edu/wp/wp-content/uploads/2007/01/mit-comm-forum_logo_square.png
END:VEVENT
END:VCALENDAR