BEGIN:VCALENDAR
VERSION:2.0
PRODID:-//MIT Graduate Program in Comparative Media Studies - ECPv5.16.1//NONSGML v1.0//EN
CALSCALE:GREGORIAN
METHOD:PUBLISH
X-WR-CALNAME:MIT Graduate Program in Comparative Media Studies
X-ORIGINAL-URL:https://cms.mit.edu
X-WR-CALDESC:Events for MIT Graduate Program in Comparative Media Studies
REFRESH-INTERVAL;VALUE=DURATION:PT1H
X-Robots-Tag:noindex
X-PUBLISHED-TTL:PT1H
BEGIN:VTIMEZONE
TZID:America/New_York
BEGIN:DAYLIGHT
TZOFFSETFROM:-0500
TZOFFSETTO:-0400
TZNAME:EDT
DTSTART:20220313T070000
END:DAYLIGHT
BEGIN:STANDARD
TZOFFSETFROM:-0400
TZOFFSETTO:-0500
TZNAME:EST
DTSTART:20221106T060000
END:STANDARD
END:VTIMEZONE
BEGIN:VEVENT
DTSTART;TZID=America/New_York:20220407T170000
DTEND;TZID=America/New_York:20220407T183000
DTSTAMP:20260425T124417
CREATED:20220308T192808Z
LAST-MODIFIED:20220308T192810Z
UID:37934-1649350800-1649356200@cms.mit.edu
SUMMARY:Oscar Winberg\, “Archie Bunker Goes to Washington: How Television in the 1970s Remade Politics into Entertainment”
DESCRIPTION:This event is virtual and will be streamed live on Zoom (mit.zoom.us/j/96579656038) and recorded. \n\n\n\n\n\n\n\nThis talk reconsiders the role of television entertainment in American political life in the 1970s and beyond. Focusing on the situation comedy All in the Family (CBS\, 1971-1979)\, the talk looks at a turn to politics in entertainment and a turn to entertainment in politics. In the 1970s\, fictive characters\, including Archie Bunker (played by Carroll O’Connor) and Edith Bunker (Jean Stapleton) of All in the Family but also Hawkeye Pierce (played by Alan Alda) of MAS*H and Mary Richards (played by Mary Tyler Moore) of The Mary Tyler Moore Show\, became political icons. Produced by Norman Lear\, All in the Family is recognized as a watershed moment in television history. And yet\, Oscar Winberg argues\, the show did not just change television\, it transformed American politics. Recognizing the popularity of television\, politicians learned how to use (and abuse) television entertainment to win votes\, to fundraise\, to promote their agenda\, and to push for legislation. Television entertainment in the 1970s thereby remade political life in its image\, paving the way for our current moment of mediated showbiz politics. \n\n\n\n\nOscar Winberg holds a Ph.D. in History from Åbo Akademi University. He is working on a political history of television entertainment in the 1970s United States. His work focuses on mass media in modern political history and has appeared in PS: Political Science & Politics\, European Journal of American Studies\, and Finsk Tidskrift. He is a columnist for Hufvudstadsbladet and has written for venues such as Made by History at the Washington Post\, Vasabladet\, and the public broadcasting corporation in Finland.
URL:https://cms.mit.edu/event/oscar-winberg-archie-bunker-goes-to-washington-how-television-in-the-1970s-remade-politics-into-entertainment/
CATEGORIES:Colloquium
ATTACH;FMTTYPE=image/jpeg:https://cms.mit.edu/wp/wp-content/uploads/2022/03/Oscar-Winberg-1.jpg
END:VEVENT
END:VCALENDAR