BEGIN:VCALENDAR
VERSION:2.0
PRODID:-//MIT Graduate Program in Comparative Media Studies - ECPv5.16.1//NONSGML v1.0//EN
CALSCALE:GREGORIAN
METHOD:PUBLISH
X-ORIGINAL-URL:https://cms.mit.edu
X-WR-CALDESC:Events for MIT Graduate Program in Comparative Media Studies
REFRESH-INTERVAL;VALUE=DURATION:PT1H
X-Robots-Tag:noindex
X-PUBLISHED-TTL:PT1H
BEGIN:VTIMEZONE
TZID:America/New_York
BEGIN:DAYLIGHT
TZOFFSETFROM:-0500
TZOFFSETTO:-0400
TZNAME:EDT
DTSTART:20220313T070000
END:DAYLIGHT
BEGIN:STANDARD
TZOFFSETFROM:-0400
TZOFFSETTO:-0500
TZNAME:EST
DTSTART:20221106T060000
END:STANDARD
END:VTIMEZONE
BEGIN:VEVENT
DTSTART;TZID=America/New_York:20220310T170000
DTEND;TZID=America/New_York:20220310T183000
DTSTAMP:20260425T090505
CREATED:20220121T143612Z
LAST-MODIFIED:20220304T133039Z
UID:37850-1646931600-1646937000@cms.mit.edu
SUMMARY:Katherine Jewell in conversation with Ian Condry\, “Party City: WMBR\, Institutional Change\, and Democratic Media”
DESCRIPTION:In-person attendance: limited to  MIT community members enrolled in Covid Pass. \n\n\n\nStreaming: This event will be available live on Zoom (mit.zoom.us/j/96579656038) and recorded. \n\n\n\n\n\n\n\nCollege radio has long been known as the weird\, wacky signals on the left of the FM dial offering music that would never be mainstream. But this wasn’t always the case—and moreover\, even at stations exemplifying musical adventurousness and the community potential of college signals\, institutional constraints loomed. In this talk\, Katherine Jewell delves into the history of WMBR at MIT from the 1960s to the 1980s to explore how this station\, with a license held by an independent non-profit corporation\, built a meaningful community institution despite transformations within the university\, its student body and organizations\, as well as regulatory changes regarding noncommercial radio and the music industry’s shifting business model. DJs debated and embraced the democratic obligations of their signal\, particularly their commitment to diversity of sound. But achieving these lofty goals often proved complicated given the need to construct a program that appealed to and served many audiences in a fluctuating radio market. Despite these limits\, college radio’s history can offer much to consider in considering how to pursue democratic media and community connection in the twenty-first century. \n\n\n\n\nKatherine Rye Jewell\, Ph.D.\, is a historian writing about the history of college radio\, including her forthcoming book\, tentatively titled Live from the Underground: A History of College Radio from University of North Carolina Press. Her research on college radio is at the center of two additional book projects currently in progress. She is the author of Dollars for Dixie: Business and the Transformation of Conservatism in the Twentieth Century\, published by Cambridge University Press (New York) in 2017. Her work has appeared in The American Historian\, the Washington Post\, among other scholarly publications. A graduate of Vanderbilt University (BA\, 2001) and Boston University (MA\, 2005; Ph.D.\, 2010)\, she studies the business and politics of culture. She is currently Associate Professor of History at Fitchburg State University\, where she received the Fitchburg State University Faculty Research Award in 2018\, and a year-long visiting fellowship from the University of Connecticut Humanities Institute. \n\n\n\n\n\nIan Condry is a cultural anthropologist of Japan and professor at MIT since 2002. He is the author of two books\, Hip-Hop Japan and The Soul of Anime\, both of which explore globalization from below. The books are available for free\, thanks to Creative Commons and Duke University Press: mit.academia.edu/IanCondry. In the fall of 2019\, he launched the MIT Spatial Sound Lab\, a community production studio for immersive\, multiperspective\, sonic experimentation. Among the goals is to provide a space for using sound to disrupt hierarchies\, reduce inequalities\, and cross borders. He is co-organizer of Dissolve Music\, a sound conference and music festival\, in 2018 and 2020 (mitdissolve.com). Since 2018\, he is the radio DJ for Near and Far\, a Japanese hip-hop show\, on WMBR 88.1FM Cambridge\, and online at wmbr.org\, weekly Tuesdays 7-8pm. Archive at mixcloud.com/iancondry. Since 2006\, he has organized the MIT / Harvard Cool Japan research project\, which explores the critical potential of popular culture. He is currently working on a book about musicians on the margins in Tokyo\, Boston\, and Berlin.
URL:https://cms.mit.edu/event/katherine-jewell-party-city-wmbr-institutional-change-and-democratic-media/
LOCATION:Zoom\, and (for MIT only) E15-318 Common Area\, 20 Ames Street\, Cambridge\, Massachusetts\, 02139\, United States
CATEGORIES:Colloquium
ATTACH;FMTTYPE=image/jpeg:https://cms.mit.edu/wp/wp-content/uploads/2022/01/Katherine-Jewell-square.jpg
END:VEVENT
END:VCALENDAR