BEGIN:VCALENDAR
VERSION:2.0
PRODID:-//MIT Graduate Program in Comparative Media Studies - ECPv5.16.1//NONSGML v1.0//EN
CALSCALE:GREGORIAN
METHOD:PUBLISH
X-WR-CALNAME:MIT Graduate Program in Comparative Media Studies
X-ORIGINAL-URL:https://cms.mit.edu
X-WR-CALDESC:Events for MIT Graduate Program in Comparative Media Studies
REFRESH-INTERVAL;VALUE=DURATION:PT1H
X-Robots-Tag:noindex
X-PUBLISHED-TTL:PT1H
BEGIN:VTIMEZONE
TZID:America/New_York
BEGIN:DAYLIGHT
TZOFFSETFROM:-0500
TZOFFSETTO:-0400
TZNAME:EDT
DTSTART:20220313T070000
END:DAYLIGHT
BEGIN:STANDARD
TZOFFSETFROM:-0400
TZOFFSETTO:-0500
TZNAME:EST
DTSTART:20221106T060000
END:STANDARD
END:VTIMEZONE
BEGIN:VEVENT
DTSTART;TZID=America/New_York:20220217T170000
DTEND;TZID=America/New_York:20220217T183000
DTSTAMP:20260425T124352
CREATED:20220119T162500Z
LAST-MODIFIED:20220124T210209Z
UID:37841-1645117200-1645122600@cms.mit.edu
SUMMARY:Jorge Caraballo\, “How to Use Audio Storytelling to Cultivate a Community and Keep it Engaged”
DESCRIPTION:This event is virtual and will be streamed live on Zoom (mit.zoom.us/j/96579656038) and recorded. \n\n\n\n\n\n\n\nPodcasts are in a golden age and are being used to effectively communicate new ideas\, tell compelling stories\, and build highly participative communities. This presentation will explore the power of audio storytelling to connect individuals in engaged networks of collaboration. Jorge Caraballo (’22 Harvard Nieman Fellow) will draw from experience as the former Growth Editor at Radio Ambulante –Latin America’s most popular documentary podcast– and will highlight different ways in which storytelling can be the starting point of new collective identities. \n\n\n\n\nJorge Caraballo is a journalist and a 2022 Harvard Nieman fellow. Before that\, he worked for four years as the Growth Editor at Radio Ambulante –the most popular documentary podcast in Spanish\, and the only one in that language distributed by NPR. There he led online and offline engagement initiatives to grow the community around the podcast. He holds a master’s degree in Media Innovation at Northeastern University. He’s a Fulbright Scholar and a Google News Initiative Fellow.
URL:https://cms.mit.edu/event/jorge-caraballo-audio-storytelling-cultivate-community-keep-it-engaged/
LOCATION:Streamed live on Zoom
CATEGORIES:Colloquium
ATTACH;FMTTYPE=image/jpeg:https://cms.mit.edu/wp/wp-content/uploads/2022/01/Jorge-Caraballo-square.jpg
END:VEVENT
END:VCALENDAR