BEGIN:VCALENDAR
VERSION:2.0
PRODID:-//MIT Graduate Program in Comparative Media Studies - ECPv5.16.1//NONSGML v1.0//EN
CALSCALE:GREGORIAN
METHOD:PUBLISH
X-ORIGINAL-URL:https://cms.mit.edu
X-WR-CALDESC:Events for MIT Graduate Program in Comparative Media Studies
REFRESH-INTERVAL;VALUE=DURATION:PT1H
X-Robots-Tag:noindex
X-PUBLISHED-TTL:PT1H
BEGIN:VTIMEZONE
TZID:America/New_York
BEGIN:DAYLIGHT
TZOFFSETFROM:-0500
TZOFFSETTO:-0400
TZNAME:EDT
DTSTART:20190310T070000
END:DAYLIGHT
BEGIN:STANDARD
TZOFFSETFROM:-0400
TZOFFSETTO:-0500
TZNAME:EST
DTSTART:20191103T060000
END:STANDARD
END:VTIMEZONE
BEGIN:VEVENT
DTSTART;TZID=America/New_York:20190417T170000
DTEND;TZID=America/New_York:20190417T183000
DTSTAMP:20260420T004547
CREATED:20190402T155553Z
LAST-MODIFIED:20201019T134243Z
UID:33464-1555520400-1555525800@cms.mit.edu
SUMMARY:Civic Arts Series\, "Do-it Yourself Cinema: Portable Film Projectors as Media History"
DESCRIPTION:Haidee WassonIllustration by Mauricio Cordero\nHosted with MIT Arts\, Culture\, and Technology and The Boston Cinema/Media Seminar. \nIntroduction by Lisa Parks\, Professor\, CMS/W \nHaidee Wasson’s talk will explore the long and vibrant place of portable film devices in the history of small media\, repositioning the ‘movie theatre’ as the singular or even central figuration of film presentation and viewing. From its earliest days\, film was – in a sense – born portable. Yet\, our attention to and affection for the movie theater has obscured our view to the parallel and paradigmatic development of a far more numerous and arguably more significant development: the international\, post-war proliferation of portable projectors. These small devices were used widely and for a sizable range of purposes: political\, industrial\, artistic\, cultural. They fundamentally changed the conditions in which films could be seen — and ultimately imagined — as complex projected\, often interactive and highly applied\, forms. Drawn from a book-length study\, this paper will highlight the productivity of “portability” as a concept and practice for opening up our understanding of film history as media history\, identifying key insights that expand our understanding of what cinema has long been\, a highly iterative media form. \nHaidee Wasson is Professor of Film and Media in the School of Cinema\, Concordia University\, Montreal.  She is author or editor of four books\, including the award-winning Museum Movies\, Inventing Film Studies (with Lee Grieveson) Useful Cinema  (with Charles Acland) and Cinema’s Military Industrial Complex (with Lee Grieveson). She is the founder of Fieldnotes\, an oral history project on the history of film and media studies\, and the recent recipient of the Distinguished Service Award\, Society for Cinema and Media Studies.  Her current research investigates the design and expansive use of film projectors by industrial\, military and government sectors\, exploring the transformation of cinema from an entertainment machine into a highly diversified display and performance device.
URL:https://cms.mit.edu/event/civic-arts-series-do-it-yourself-cinema-portable-film-projectors-as-media-history/
LOCATION:MIT Building 4\, Room 270\, 182 Memorial Drive (Rear)\, Cambridge\, MA\, 02139\, United States
CATEGORIES:Civic Arts
ATTACH;FMTTYPE=image/png:https://cms.mit.edu/wp/wp-content/uploads/2019/04/Haidee-Wasson.png
END:VEVENT
END:VCALENDAR