BEGIN:VCALENDAR
VERSION:2.0
PRODID:-//MIT Graduate Program in Comparative Media Studies - ECPv5.16.1//NONSGML v1.0//EN
CALSCALE:GREGORIAN
METHOD:PUBLISH
X-WR-CALNAME:MIT Graduate Program in Comparative Media Studies
X-ORIGINAL-URL:https://cms.mit.edu
X-WR-CALDESC:Events for MIT Graduate Program in Comparative Media Studies
REFRESH-INTERVAL;VALUE=DURATION:PT1H
X-Robots-Tag:noindex
X-PUBLISHED-TTL:PT1H
BEGIN:VTIMEZONE
TZID:America/New_York
BEGIN:DAYLIGHT
TZOFFSETFROM:-0500
TZOFFSETTO:-0400
TZNAME:EDT
DTSTART:20180311T070000
END:DAYLIGHT
BEGIN:STANDARD
TZOFFSETFROM:-0400
TZOFFSETTO:-0500
TZNAME:EST
DTSTART:20181104T060000
END:STANDARD
END:VTIMEZONE
BEGIN:VEVENT
DTSTART;TZID=America/New_York:20180301T170000
DTEND;TZID=America/New_York:20180301T183000
DTSTAMP:20260424T125250
CREATED:20180116T170101Z
LAST-MODIFIED:20180116T170152Z
UID:31508-1519923600-1519929000@cms.mit.edu
SUMMARY:The (Non)Americans: Tracking and Analyzing Russian Influence Operations on Twitter
DESCRIPTION:Deen Freelon\, Associate Professor\, School of Media and Journalism\, University of North Carolina\nIn late 2017\, Twitter and Facebook revealed that agents backed by the Russian government had infiltrated American political conversations for years. Posing as concerned citizens from across the ideological spectrum\, these agents surreptitiously spread propaganda disguised as home-grown political chatter. Two challenges\, one theoretical and the other methodological\, confront researchers interested in studying this campaign of information warfare. First\, the fields of communication and political science offer little theoretical guidance about how to study such tactics\, which are known as influence operations in military studies and dezinformatsiya in Russian and Slavic studies. Second\, Twitter and Facebook removed all such propagandistic content from public view upon confirming their existence\, which makes obtaining the data difficult (but not impossible). In this talk\, the University of North Carolina’s Deen Freelon will explain how he and his collaborators are addressing these challenges and present key preliminary findings from their ongoing project focused on this campaign. \nDeen Freelon is an associate professor in the School of Media and Journalism. His research covers two major areas of scholarship: 1) political expression through digital media and 2) data science and computational methods for analyzing large digital datasets. He has authored or co-authored more than 30 journal articles\, book chapters and public reports\, in addition to co-editing one scholarly book. He has served as principal investigator on grants from the Knight Foundation\, the Spencer Foundation and the U.S. Institute of Peace. He has written research-grade software to calculate intercoder reliability for content analysis (ReCal)\, analyze large-scale network data from social media (TSM)\, and collect data from Facebook (fb_scrape_public). He formerly taught at American University in Washington\, D.C.
URL:https://cms.mit.edu/event/deen-freelon-nonamericans-tracking-analyzing-russian-influence-operations-twitter/
LOCATION:MIT Building 56\, Room 114\, Access via 21 Ames Street\, Cambridge\, MA\, 02139\, United States
CATEGORIES:Colloquium
ATTACH;FMTTYPE=image/jpeg:https://cms.mit.edu/wp/wp-content/uploads/2018/01/Deen-Freelon.jpg
END:VEVENT
END:VCALENDAR