BEGIN:VCALENDAR
VERSION:2.0
PRODID:-//MIT Graduate Program in Comparative Media Studies - ECPv5.16.1//NONSGML v1.0//EN
CALSCALE:GREGORIAN
METHOD:PUBLISH
X-ORIGINAL-URL:https://cms.mit.edu
X-WR-CALDESC:Events for MIT Graduate Program in Comparative Media Studies
REFRESH-INTERVAL;VALUE=DURATION:PT1H
X-Robots-Tag:noindex
X-PUBLISHED-TTL:PT1H
BEGIN:VTIMEZONE
TZID:America/New_York
BEGIN:DAYLIGHT
TZOFFSETFROM:-0500
TZOFFSETTO:-0400
TZNAME:EDT
DTSTART:20170312T070000
END:DAYLIGHT
BEGIN:STANDARD
TZOFFSETFROM:-0400
TZOFFSETTO:-0500
TZNAME:EST
DTSTART:20171105T060000
END:STANDARD
END:VTIMEZONE
BEGIN:VEVENT
DTSTART;TZID=America/New_York:20171207T170000
DTEND;TZID=America/New_York:20171207T183000
DTSTAMP:20260425T180442
CREATED:20170907T171431Z
LAST-MODIFIED:20171115T133348Z
UID:30943-1512666000-1512671400@cms.mit.edu
SUMMARY:The Emotional Politics of Piracy\, Or Why We Feel Intellectual Property Infringement as National Trauma
DESCRIPTION:Anjali Vats\, Assistant Professor of Communication and African and African Diaspora Studies at Boston College and Assistant Professor of Law\, Boston College Law School\nEmbracing the recent turns toward the study of public feelings\, this talk examines the emotional politics of intellectual property “piracy.” Situating the figure of the pirate within larger narratives of Americanness\, meritocracy\, hard work\, and postrace advanced in political speeches and media representations\, it reads public feelings about the exceptional inventiveness and industriousness of US workers as context for intellectual property policy. Specifically\, couching piracy as the unjust theft of the work of industrious and uniquely creative Americans fosters sentiments of pride\, entitlement\, resentment\, and anxiety. When taken together\, these public feelings transform intellectual property infringement into racialized piratical trauma\, which threatens the very fabric of the nation. The everdayness and banality of piratical trauma fuels desires for intellectual property maximalism and intellectual property criminalization\, which reproduce the very conditions which gave rise to the trauma. \nAnjali Vats is Assistant Professor of Communication and African and African Diaspora Studies at Boston College and Assistant Professor of Law\, by courtesy\, at Boston College Law School. She is currently working on a monograph entitled Created Differences: Intellectual Properties and Racial Formation in the Making of Americans which considers how intellectual property discourses shape our understandings of race\, citizenship\, and the capacity to engage in valuable intellectual labor. She has published articles in the Quarterly Journal of Speech\, Communication\, Culture & Critique\, Communication and Critical/Cultural Studies\, and Southern Communication Journal. She has also co-authored law review articles in the Duquesne Law Review and Wayne Law Review. In 2016\, Professor Vats was awarded an AAUW Postdoctoral Fellowship and an Exemplary Diversity Scholar Citation from the National Center for Institutional Diversity at the University of Michigan. Prior to teaching\, she clerked for the Honorable A. William Maupin of the Supreme Court of Nevada.
URL:https://cms.mit.edu/event/anjali-vats-emotional-politics-piracy-intellectual-property/
LOCATION:MIT Building 56\, Room 114\, Access via 21 Ames Street\, Cambridge\, MA\, 02139\, United States
CATEGORIES:Colloquium
ATTACH;FMTTYPE=image/jpeg:https://cms.mit.edu/wp/wp-content/uploads/2017/09/Anjali-Vats.jpg
END:VEVENT
END:VCALENDAR