BEGIN:VCALENDAR
VERSION:2.0
PRODID:-//MIT Graduate Program in Comparative Media Studies - ECPv5.16.1//NONSGML v1.0//EN
CALSCALE:GREGORIAN
METHOD:PUBLISH
X-WR-CALNAME:MIT Graduate Program in Comparative Media Studies
X-ORIGINAL-URL:https://cms.mit.edu
X-WR-CALDESC:Events for MIT Graduate Program in Comparative Media Studies
REFRESH-INTERVAL;VALUE=DURATION:PT1H
X-Robots-Tag:noindex
X-PUBLISHED-TTL:PT1H
BEGIN:VTIMEZONE
TZID:America/New_York
BEGIN:DAYLIGHT
TZOFFSETFROM:-0500
TZOFFSETTO:-0400
TZNAME:EDT
DTSTART:20120311T070000
END:DAYLIGHT
BEGIN:STANDARD
TZOFFSETFROM:-0400
TZOFFSETTO:-0500
TZNAME:EST
DTSTART:20121104T060000
END:STANDARD
END:VTIMEZONE
BEGIN:VEVENT
DTSTART;TZID=America/New_York:20120920T170000
DTEND;TZID=America/New_York:20120920T190000
DTSTAMP:20260422T050921
CREATED:20141015T173403Z
LAST-MODIFIED:20150324T152024Z
UID:21576-1348160400-1348167600@cms.mit.edu
SUMMARY:Jim Bizzocchi\, "Close-Reading Media Poetics"
DESCRIPTION:Jim Bizzocchi\nClose reading is a classic humanities methodology for the analysis and understanding of texts across a variety of media. It’s a rigorous discipline — in the words of van Looy and Baetans: “The text is never trusted at face value\, but is torn to pieces and reconstituted by a reader who is at the same time a demolisher and a constructor.” This is a difficult task — the practice of close reading requires that the scholar immerse herself in the experience of the text on its own terms\, and at the same time maintain a critical distance in order to observe and understand the construction and the effects of the text. Bizzocchi relies on close reading for his own scholarly work and uses various strategies to reconcile the contradictory states of experience and analysis. \nClose reading can be used to explicate works across a variety of dimensions: thematic\, cultural\, historical\, sociological\, and others.   Bizzocchi’s goal is to understand the poetics — the creative decisions — embedded in media works. Bordwell describes poetics as “inquiry into the fundamental principles by which artifacts in any representational medium are constructed\, and the effects that flow from these principles”. Bizzocchi has always loved the magic of immersion in the experience of the moving image. As a scholar\, he says his role is “to seek within that immersive experience the details of how the magic is created”. He will present his analyses of Norman Jewison’s The Thomas Crown Affair\, Tom Tykwer’s Run\, Lola\, Run\, and Gerrie Villon and Alex Mayhew’s Ceremony of Innocence (an interactive adaptation of The Griffin and Sabine trilogy by Nick Bantock). \nJim Bizzocchi is an Associate Professor in the School of Interactive Arts and Technology at Simon Fraser University in Vancouver\, British Columbia.  His research includes work on narrative\, interactive narrative\, and the evolution of the moving image. He teaches classes in these areas\, and is a recipient of the University Award for Excellence in Teaching.  He is a practicing video artist\, creating award-winning works in a genre he calls “Ambient Video”.  Jim is a graduate of the MIT Comparative Media Studies Program (2001).
URL:https://cms.mit.edu/event/jim-bizzocchi-close-reading-media-poetics/
LOCATION:MIT Media Lab\, Room 633\, 75 Amherst St.\, Cambridge\, MA\, 02139\, United States
CATEGORIES:Colloquium
ATTACH;FMTTYPE=image/jpeg:https://cms.mit.edu/wp/wp-content/uploads/2012/03/asset.jpg
END:VEVENT
END:VCALENDAR