BEGIN:VCALENDAR
VERSION:2.0
PRODID:-//MIT Graduate Program in Comparative Media Studies - ECPv5.16.1//NONSGML v1.0//EN
CALSCALE:GREGORIAN
METHOD:PUBLISH
X-ORIGINAL-URL:https://cms.mit.edu
X-WR-CALDESC:Events for MIT Graduate Program in Comparative Media Studies
REFRESH-INTERVAL;VALUE=DURATION:PT1H
X-Robots-Tag:noindex
X-PUBLISHED-TTL:PT1H
BEGIN:VTIMEZONE
TZID:America/New_York
BEGIN:DAYLIGHT
TZOFFSETFROM:-0500
TZOFFSETTO:-0400
TZNAME:EDT
DTSTART:20120311T070000
END:DAYLIGHT
BEGIN:STANDARD
TZOFFSETFROM:-0400
TZOFFSETTO:-0500
TZNAME:EST
DTSTART:20121104T060000
END:STANDARD
END:VTIMEZONE
BEGIN:VEVENT
DTSTART;TZID=America/New_York:20120913T170000
DTEND;TZID=America/New_York:20120913T190000
DTSTAMP:20260421T111328
CREATED:20140904T181702Z
LAST-MODIFIED:20140904T181702Z
UID:21565-1347555600-1347562800@cms.mit.edu
SUMMARY:Artist-Audience Relations in the Age of Social Media
DESCRIPTION:Nancy Baym\nSocial media have transformed relationships between those who create artistic work and those who enjoy it. Culture industries such as the music recording business have been left reeling as fans have gained the ability to distribute amongst themselves and artists have gained the ability to bypass traditional gatekeepers such as labels. The dominant rhetoric has been of ‘piracy\,’ yet there are other tales to tell. How does direct access to fans change what it means to be an artist? What rewards are there that weren’t before? How are relational lines between fans and friends blurred and with what consequences? What new challenges other than making a living do artists face? \nNancy Baym is a Principal Researcher at Microsoft Research New England. She is the author of Personal Connections in the Digital Age (Polity)\, Internet Inquiry (co-edited with Annette Markham\, Sage) and Tune In\, Log On: Soaps\, Fandom and Online Community (Sage). For the last two years she has been interviewing musicians about their relationships with audiences.
URL:https://cms.mit.edu/event/nancy-baym-artist-audience-relations/
LOCATION:MIT Building 4\, Room 231\, Cambridge\, MA\, 02139\, United States
CATEGORIES:Colloquium
ATTACH;FMTTYPE=image/jpeg:https://cms.mit.edu/wp/wp-content/uploads/2012/09/Baym.jpg
END:VEVENT
END:VCALENDAR