BEGIN:VCALENDAR
VERSION:2.0
PRODID:-//MIT Graduate Program in Comparative Media Studies - ECPv5.16.1//NONSGML v1.0//EN
CALSCALE:GREGORIAN
METHOD:PUBLISH
X-ORIGINAL-URL:https://cms.mit.edu
X-WR-CALDESC:Events for MIT Graduate Program in Comparative Media Studies
REFRESH-INTERVAL;VALUE=DURATION:PT1H
X-Robots-Tag:noindex
X-PUBLISHED-TTL:PT1H
BEGIN:VTIMEZONE
TZID:America/New_York
BEGIN:DAYLIGHT
TZOFFSETFROM:-0500
TZOFFSETTO:-0400
TZNAME:EDT
DTSTART:20120311T070000
END:DAYLIGHT
BEGIN:STANDARD
TZOFFSETFROM:-0400
TZOFFSETTO:-0500
TZNAME:EST
DTSTART:20121104T060000
END:STANDARD
END:VTIMEZONE
BEGIN:VEVENT
DTSTART;TZID=America/New_York:20120208T170000
DTEND;TZID=America/New_York:20120208T190000
DTSTAMP:20260421T191615
CREATED:20141121T151125Z
LAST-MODIFIED:20141121T151125Z
UID:21544-1328720400-1328727600@cms.mit.edu
SUMMARY:Contemporary Network Television News Reporting About Latinos: Successes\, Failures\, and a Range of Proposals to Correct Its Limitations
DESCRIPTION:Otto Santa Anna\nOtto Santa Anna presents findings from his forthcoming book\, Juan in a Hundred: Faces and Stories of Latinos on the Network News (Texas). In it he elaborates standard cognitive metaphor analysis (as is used for printed texts)\, blending cognitive science with humanist scholarship\, to attempt to capture the full semiotic range of televised reporting. His review of a full year of contemporary network news stories about Latinos reveals both the high production values and journalistic limitations of network reporting. This critical semiotic analysis offers an explanation about how news viewers construct partial understandings about Latinos from the news stories they watch. At the end of this talk he offers a range of recommendations\, from modest to radical\, to address these limitations. \nOtto Santa Ana\, UCLA Associate Professor\, received his Ph.D. in Linguistics from University of Pennsylvania. Santa Ana
URL:https://cms.mit.edu/event/otto-santa-anna-network-television-news-about-latinos/
LOCATION:MIT Media Lab\, Bartos Theater\, 20 Ames Street\, Cambridge\, MA\, 02139\, United States
CATEGORIES:Colloquium
ATTACH;FMTTYPE=image/jpeg:https://cms.mit.edu/wp/wp-content/uploads/2012/02/image_mini.jpeg
END:VEVENT
BEGIN:VEVENT
DTSTART;TZID=America/New_York:20120223T170000
DTEND;TZID=America/New_York:20120223T190000
DTSTAMP:20260421T191615
CREATED:20141218T151418Z
LAST-MODIFIED:20141218T151418Z
UID:21554-1330016400-1330023600@cms.mit.edu
SUMMARY:Games and Journalism
DESCRIPTION:Heather Chaplin\nAs a journalist covering games since 2001\, Chaplin has seen a lot of changes in the industry and among game academics. In this talk she will give an overview of the most important and interesting trends\, including emerging thinking on ideas about game literacies and the acceptance of games as facilitators of transformative experiences.  This will include ideas about play as a crucial part of human development and a potentially subversive act\, and the rise of systems thinking. Chaplin is not a games evangelist\, so the talk will cast a skeptical eye on the current trend of games as an answer for all that ails society.  She will also talk about my experiences in general as a journalist during the rise of the Internet\, and share my thinking on the journalism program she is developing at The New School. \nHeather Chaplin is an assistant professor of journalism at The New School and author of the book\, Smartbomb: The Quest for Art Entertainment and Big Bucks in the Videogame Revolution. Her work has appeared in The New York Times\, The Los Angeles Times\, GQ\, Details\, and Salon. She was a regular contributor for All Things Considered\, covering videogames. She has been interviewed for and cited in on the topic of games for publications such as The New Yorker\, The Atlantic Monthly\, The New York Times Magazine\, Businessweek\, and The Believer and has appeared on shows such as Talk of the Nation\, and CBS Sunday Morning.
URL:https://cms.mit.edu/event/heather-chaplin-games-and-journalism/
LOCATION:MIT Media Lab\, Room 633\, 75 Amherst St.\, Cambridge\, MA\, 02139\, United States
CATEGORIES:Colloquium
ATTACH;FMTTYPE=image/jpeg:https://cms.mit.edu/wp/wp-content/uploads/2012/02/heatherchaplin.jpg
END:VEVENT
END:VCALENDAR