BEGIN:VCALENDAR
VERSION:2.0
PRODID:-//MIT Graduate Program in Comparative Media Studies - ECPv5.16.1//NONSGML v1.0//EN
CALSCALE:GREGORIAN
METHOD:PUBLISH
X-ORIGINAL-URL:https://cms.mit.edu
X-WR-CALDESC:Events for MIT Graduate Program in Comparative Media Studies
REFRESH-INTERVAL;VALUE=DURATION:PT1H
X-Robots-Tag:noindex
X-PUBLISHED-TTL:PT1H
BEGIN:VTIMEZONE
TZID:America/New_York
BEGIN:DAYLIGHT
TZOFFSETFROM:-0500
TZOFFSETTO:-0400
TZNAME:EDT
DTSTART:20220313T070000
END:DAYLIGHT
BEGIN:STANDARD
TZOFFSETFROM:-0400
TZOFFSETTO:-0500
TZNAME:EST
DTSTART:20221106T060000
END:STANDARD
END:VTIMEZONE
BEGIN:VEVENT
DTSTART;TZID=America/New_York:20220203T170000
DTEND;TZID=America/New_York:20220203T183000
DTSTAMP:20260424T051935
CREATED:20211116T173954Z
LAST-MODIFIED:20220126T194606Z
UID:37746-1643907600-1643913000@cms.mit.edu
SUMMARY:Samantha N. Sheppard\, “Changing the Subject: Lynn Nottage’s By the Way\, Meet Vera Stark and the Making of Black Women’s Film History”
DESCRIPTION:This event is virtual and will be streamed live on Zoom (mit.zoom.us/j/96579656038) and recorded. \n\n\n\n\n\n\n\nLynn Nottage’s 2011 satirical play By the Way\, Meet Vera Stark stages the life and legacy of the fictional Vera Stark\, a Black maid and struggling actress during Hollywood’s golden age. Nottage\, a two-time Pulitzer prize-winning playwright and screenwriter\, was inspired in part by the career of African American actress\, singer\, and dancer Theresa Harris. A play about Black women’s cinematic representation and social erasure\, Nottage’s fabrication of film history extends beyond the staged plot to also include a digital archive documenting Vera’s celebrity and career. In this talk\, Samantha N. Sheppard examines how Nottage’s play and paratexts produce a speculative fiction and archive about Black women’s media histories\, staging what she calls a phantom cinema—an amalgam of real and imagined film histories that haunt\, trouble\, and work with and against cinema histories to creatively illuminate archival gaps in visual culture and the public imagination. \n\n\n\n\nSamantha N. Sheppard is an associate professor of cinema and media studies in the Department of Performing and Media Arts at Cornell University. She is the author of Sporting Blackness: Race\, Embodiment\, and Critical Muscle Memory on Screen (University of California Press\, 2020) and co-editor of From Madea to Media Mogul: Theorizing Tyler Perry (University Press of Mississippi\, 2016) and Sporting Realities: Critical Readings on the Sports Documentary (University of Nebraska Press\, 2020). She has published on film and media in academic and popular venues such as Film Quarterly\, The Atlantic\, Flash Art International\, and Los Angeles Review of Books. She was named a 2021 Academy Film Scholar by the Academy of Motion Picture Arts and Sciences.
URL:https://cms.mit.edu/event/samantha-n-sheppard-making-black-womens-film-history/
CATEGORIES:Colloquium
ATTACH;FMTTYPE=image/jpeg:https://cms.mit.edu/wp/wp-content/uploads/2021/11/Samantha-N.-Sheppard-scaled.jpg
END:VEVENT
END:VCALENDAR