BEGIN:VCALENDAR
VERSION:2.0
PRODID:-//MIT Graduate Program in Comparative Media Studies - ECPv5.16.1//NONSGML v1.0//EN
CALSCALE:GREGORIAN
METHOD:PUBLISH
X-ORIGINAL-URL:https://cms.mit.edu
X-WR-CALDESC:Events for MIT Graduate Program in Comparative Media Studies
REFRESH-INTERVAL;VALUE=DURATION:PT1H
X-Robots-Tag:noindex
X-PUBLISHED-TTL:PT1H
BEGIN:VTIMEZONE
TZID:America/New_York
BEGIN:DAYLIGHT
TZOFFSETFROM:-0500
TZOFFSETTO:-0400
TZNAME:EDT
DTSTART:20210314T070000
END:DAYLIGHT
BEGIN:STANDARD
TZOFFSETFROM:-0400
TZOFFSETTO:-0500
TZNAME:EST
DTSTART:20211107T060000
END:STANDARD
END:VTIMEZONE
BEGIN:VEVENT
DTSTART;TZID=America/New_York:20211118T170000
DTEND;TZID=America/New_York:20211118T183000
DTSTAMP:20260423T025120
CREATED:20211018T201531Z
LAST-MODIFIED:20211119T150851Z
UID:37667-1637254800-1637260200@cms.mit.edu
SUMMARY:Craig Robertson\, “‘Information at Your Fingertips’: The Filing Cabinet and the Gendering of Information Work”
DESCRIPTION:Attending in person: Attendance limited to MIT community members enrolled in Covid Pass. Please bring your MIT ID. \n\n\n\nStreaming: This event will be available live on Zoom (mit.zoom.us/j/96579656038) and recorded. \n\n\n\n\n\n\n\nIn this talk\, Craig Robertson provides a brief overview of the some of the themes of his recent book\, The Filing Cabinet: A Vertical History of Information (Minnesota\, 2021). He argues the emergence of the filing cabinet illustrates an important moment in the genealogy of the ascendance of modern information. He highlights a moment when information became a label for an instrumental form of knowledge\, as information is connected to gendered ideas of efficiency and labor. Storing loose sheets of paper on their long edge in tabbed manila folders grouped behind tabbed guide cards made visible and tangible a conception of information as a discrete unit. Compared to pages in a bound book\, loose paper in a tabbed folder presented information as something that was discrete\, easy to extract\, and easy to circulate: it was now possible to have information at your fingertips.  \n\n\n\n\nCraig Robertson is an associate professor of media studies at Northeastern University. For the last decade he has been researching and writing on the history of information and paperwork beginning with The Passport in America: The History of a Document (Oxford\, 2010) His most recent book is The Filing Cabinet: A Vertical History of Information (Minnesota\, 2021).
URL:https://cms.mit.edu/event/craig-robertson-filing-cabinet-gendering-information-work/
LOCATION:MIT Building E15\, Room 318 (Common Area) and streamed on Zoom\, 20 Ames Street\, Cambridge\, 02139
CATEGORIES:Colloquium
ATTACH;FMTTYPE=image/jpeg:https://cms.mit.edu/wp/wp-content/uploads/2021/10/Craig-Robertson.jpeg
END:VEVENT
END:VCALENDAR