BEGIN:VCALENDAR
VERSION:2.0
PRODID:-//MIT Graduate Program in Comparative Media Studies - ECPv5.16.1//NONSGML v1.0//EN
CALSCALE:GREGORIAN
METHOD:PUBLISH
X-ORIGINAL-URL:https://cms.mit.edu
X-WR-CALDESC:Events for MIT Graduate Program in Comparative Media Studies
REFRESH-INTERVAL;VALUE=DURATION:PT1H
X-Robots-Tag:noindex
X-PUBLISHED-TTL:PT1H
BEGIN:VTIMEZONE
TZID:America/New_York
BEGIN:DAYLIGHT
TZOFFSETFROM:-0500
TZOFFSETTO:-0400
TZNAME:EDT
DTSTART:20210314T070000
END:DAYLIGHT
BEGIN:STANDARD
TZOFFSETFROM:-0400
TZOFFSETTO:-0500
TZNAME:EST
DTSTART:20211107T060000
END:STANDARD
END:VTIMEZONE
BEGIN:VEVENT
DTSTART;TZID=America/New_York:20211104T170000
DTEND;TZID=America/New_York:20211104T183000
DTSTAMP:20260422T013955
CREATED:20211101T193332Z
LAST-MODIFIED:20211101T193519Z
UID:37713-1636045200-1636050600@cms.mit.edu
SUMMARY:Graphic Materiality\, Trauma\, and Expressionist Comics: Artist's Talk With Leela Corman
DESCRIPTION:In-person attendance: Only MIT community members enrolled in Covid Pass may attend in-person. Your MIT ID will be scanned when you arrive. \n\n\n\nStreaming: This event will be available live on Zoom (mit.zoom.us/j/96579656038) and recorded. \n\n\n\n\n\n\n\n\nJoin graphic novel creator Leela Corman for a talk and Q&A about her graphic novels and short comics on the topics of generational and personal trauma\, New York City history\, Polish-Jewish life\, and amateur women’s wrestling. \n\n\n\n\n\n\n\n\nCorman is a painter\, educator\, and graphic novel creator. Her books include Unterzakhn (Schocken/Pantheon\, 2012) and the short comics collection We All Wish For Deadly Force (Retrofit/Big Planet\, 2016). She is currently at work on the graphic novel Victory Parade\, a story about WWII\, women’s wrestling\, and the liberation of the Buchenwald concentration camp. Her short comics have appeared in The Believer Magazine\, Tablet Magazine\, Nautilus\, and The Nib.
URL:https://cms.mit.edu/event/graphic-materiality-trauma-expressionist-leela-corman/
LOCATION:Zoom\, and (for MIT only) E15-318 Common Area\, 20 Ames Street\, Cambridge\, Massachusetts\, 02139\, United States
CATEGORIES:Colloquium
ATTACH;FMTTYPE=image/jpeg:https://cms.mit.edu/wp/wp-content/uploads/2021/11/Leela-Corman.jpg
END:VEVENT
END:VCALENDAR