BEGIN:VCALENDAR
VERSION:2.0
PRODID:-//MIT Graduate Program in Comparative Media Studies - ECPv5.16.1//NONSGML v1.0//EN
CALSCALE:GREGORIAN
METHOD:PUBLISH
X-ORIGINAL-URL:https://cms.mit.edu
X-WR-CALDESC:Events for MIT Graduate Program in Comparative Media Studies
REFRESH-INTERVAL;VALUE=DURATION:PT1H
X-Robots-Tag:noindex
X-PUBLISHED-TTL:PT1H
BEGIN:VTIMEZONE
TZID:America/New_York
BEGIN:DAYLIGHT
TZOFFSETFROM:-0500
TZOFFSETTO:-0400
TZNAME:EDT
DTSTART:20210314T070000
END:DAYLIGHT
BEGIN:STANDARD
TZOFFSETFROM:-0400
TZOFFSETTO:-0500
TZNAME:EST
DTSTART:20211107T060000
END:STANDARD
END:VTIMEZONE
BEGIN:VEVENT
DTSTART;TZID=America/New_York:20210311T120000
DTEND;TZID=America/New_York:20210311T130000
DTSTAMP:20260423T071221
CREATED:20210222T140644Z
LAST-MODIFIED:20210222T173905Z
UID:37169-1615464000-1615467600@cms.mit.edu
SUMMARY:Civic Media Insights: Jabari Evans\, “The Anatomy of Digital Clout(chasing): Examining Social Media Visibility\, Relational Labor and Empowerment Strategies of Black Youth in Chicago’s Drill Rap Scene”
DESCRIPTION:Prior literature has suggested that it is through popular music that the social\, professional and technological aspirations of Black youth often come together. Nowhere is this more evident than in the context of Hip-Hop music\, where Black youth inventiveness with digital tools is celebrated and valued far more than any other genre of media entertainment. Though many scholars have theorized on the centrality of individual authenticity\, sexuality and masculinity to the communication of Hip-Hop artists in digital spaces\, academic work has paid very little attention to artist perspectives of how their relational and visibility labor helps them cultivate neighborhood respectability and build community with like minded peers. \n\n\n\n\n Using interviews and participant observation of Drill rap artists\, speaker Jabari Evans explores the content and character of their work on social media toward acquiring “clout”- a digital form of influence rooted in Hip-Hop that allows marginalized youth to leverage digital tools in building social status\, maintain authenticity\, cultivate connections with fans\, community among friends and other cultural producers. Ultimately\, Evans argues Chicago’s Drill rap scene provides an example of why formal institutions need to rethink how race\, class\, gender and geography influence the barriers to civic action for Black youth and how their digital practices add significantly to the understanding of the counterpublics arising from social media. \n\n\n\nJabari Evans is a Ph.D. candidate in the School of Communication Studies at Northwestern University and a research fellow at the Northwestern Center of Media and Human Development. As a media scholar\, his research focuses on the digital subcultures that urban youth and young adults of color develop and inhabit to understand social justice\, their living environments\, emotional development and professional aspirations.
URL:https://cms.mit.edu/event/civic-media-insights-jabari-evans-clout-chasing-chicago-drill-rap/
CATEGORIES:Civic Media Insights
ATTACH;FMTTYPE=image/jpeg:https://cms.mit.edu/wp/wp-content/uploads/2021/02/Jabari-Evans.jpg
END:VEVENT
BEGIN:VEVENT
DTSTART;TZID=America/New_York:20210311T170000
DTEND;TZID=America/New_York:20210311T183000
DTSTAMP:20260423T071221
CREATED:20210305T144520Z
LAST-MODIFIED:20210305T150409Z
UID:37237-1615482000-1615487400@cms.mit.edu
SUMMARY:Joshua Littenberg-Tobias\, “Measuring Equity-Promoting Behaviors in Digital Teaching Simulations: A Topic Modeling Approach”
DESCRIPTION:Digital simulations offer learning opportunities to engage and reflect on systemic issues of racism and structural violence against communities of color. This talk examines how natural language processing tools can be used to better understand participants’ experiences within simulated environments focused on anti-racist teaching and identify changes in participants’ behavior over time. As K-12 schools increasingly reckon with our country’s long history of racist teaching practices\, digital simulations may provide ways to help teachers name\, re-examine\, and reflect on their own practice and move toward anti-racist teaching. \n\n\n\n\nDr. Joshua Littenberg-Tobias is a Research Scientist in the MIT Teaching Systems Lab. His research focuses on measuring and supporting learning within large-scale technology-mediated environments with a focus on civic engagement and anti-racist teaching practices. He received his Ph.D. from Boston College in 2015 in educational research\, measurement\, and evaluation.
URL:https://cms.mit.edu/event/joshua-littenberg-tobias-measuring-equity-promoting-behaviors/
CATEGORIES:Colloquium
ATTACH;FMTTYPE=image/jpeg:https://cms.mit.edu/wp/wp-content/uploads/2021/03/Joshua-Littenberg-Tobias.jpg
END:VEVENT
END:VCALENDAR