BEGIN:VCALENDAR
VERSION:2.0
PRODID:-//MIT Graduate Program in Comparative Media Studies - ECPv5.16.1//NONSGML v1.0//EN
CALSCALE:GREGORIAN
METHOD:PUBLISH
X-WR-CALNAME:MIT Graduate Program in Comparative Media Studies
X-ORIGINAL-URL:https://cms.mit.edu
X-WR-CALDESC:Events for MIT Graduate Program in Comparative Media Studies
REFRESH-INTERVAL;VALUE=DURATION:PT1H
X-Robots-Tag:noindex
X-PUBLISHED-TTL:PT1H
BEGIN:VTIMEZONE
TZID:America/New_York
BEGIN:DAYLIGHT
TZOFFSETFROM:-0500
TZOFFSETTO:-0400
TZNAME:EDT
DTSTART:20210314T070000
END:DAYLIGHT
BEGIN:STANDARD
TZOFFSETFROM:-0400
TZOFFSETTO:-0500
TZNAME:EST
DTSTART:20211107T060000
END:STANDARD
END:VTIMEZONE
BEGIN:VEVENT
DTSTART;TZID=America/New_York:20210226T120000
DTEND;TZID=America/New_York:20210226T130000
DTSTAMP:20260423T153453
CREATED:20210222T175133Z
LAST-MODIFIED:20210222T175136Z
UID:37166-1614340800-1614344400@cms.mit.edu
SUMMARY:Civic Media Insights: Burcu Baykurt\, “The City as Data Machine: Local Governance in the Age of Big Data”
DESCRIPTION:Beginning in 2015\, city officials and civic leaders in Kansas City\, Missouri partnered with Google\, Cisco\, and Sprint to design a smart city. This talk explains what happened next. Smart city enthusiasts predicted that a data-driven city could narrow the stark class and racial divides. In practice\, city officials and civic entrepreneurs used big data to hunt for new problems or discover connections they did not know existed rather than working on extant issues. In so doing\, they ignored the needs of already-vulnerable groups\, downplayed their legitimate concerns about automated surveillance\, and neglected the “data deserts” that they had created. \n\n\n\n\nThe talk will conclude by raising some larger issues about remaking cities using the techniques of data capitalism and attempts to build a model smart city to be replicated internationally. \n\n\n\nBurcu Baykurt is an assistant professor of urban futures and communication at the University of Massachusetts Amherst and a faculty associate at the Berkman Klein Center for Internet & Society at Harvard University.
URL:https://cms.mit.edu/event/civic-media-insights-burcu-baykurt-data-machine-local-governance-big-data/
CATEGORIES:Civic Media Insights
ATTACH;FMTTYPE=image/jpeg:https://cms.mit.edu/wp/wp-content/uploads/2021/02/Burcu-Baykurt.jpg
END:VEVENT
END:VCALENDAR