BEGIN:VCALENDAR
VERSION:2.0
PRODID:-//MIT Graduate Program in Comparative Media Studies - ECPv5.16.1//NONSGML v1.0//EN
CALSCALE:GREGORIAN
METHOD:PUBLISH
X-WR-CALNAME:MIT Graduate Program in Comparative Media Studies
X-ORIGINAL-URL:https://cms.mit.edu
X-WR-CALDESC:Events for MIT Graduate Program in Comparative Media Studies
REFRESH-INTERVAL;VALUE=DURATION:PT1H
X-Robots-Tag:noindex
X-PUBLISHED-TTL:PT1H
BEGIN:VTIMEZONE
TZID:America/New_York
BEGIN:DAYLIGHT
TZOFFSETFROM:-0500
TZOFFSETTO:-0400
TZNAME:EDT
DTSTART:20160313T070000
END:DAYLIGHT
BEGIN:STANDARD
TZOFFSETFROM:-0400
TZOFFSETTO:-0500
TZNAME:EST
DTSTART:20161106T060000
END:STANDARD
END:VTIMEZONE
BEGIN:VEVENT
DTSTART;TZID=America/New_York:20160407T163000
DTEND;TZID=America/New_York:20160407T163000
DTSTAMP:20260422T010331
CREATED:20160405T135129Z
LAST-MODIFIED:20160414T180244Z
UID:26988-1460046600-1460046600@cms.mit.edu
SUMMARY:Michael Taussig: "Mooning Texas"
DESCRIPTION:Michael Taussig\, Professor of Anthropology\, Columbia University\n“Mooning Texas” – an adventure story involving social energy + art + Emile Durkheim’s “take” on Mauss + Hubert’s “take” on mana + the creativity of gossip. \nMichael Taussig\, professor of anthropology at Columbia University\, was dubbed by the New York Times as “Anthropology’s Alternative Radical.” Taussig has been doing fieldwork since 1969. He has written on the commercialization of peasant agriculture; slavery; hunger; the working of commodity fetishism; colonialism on “shamanism” and folk healing; the relevance of modernism and post-modernist aesthetics for the understanding of ritual; the making\, talking\, and writing of terror; and mimesis. He has also written “a study of exciting substance loaded with seduction and evil\, gold and cocaine\, in a montage-ethnography of the Pacific Coast of Colombia.” \nIntroduced by Prof. Ian Condry\, Global Studies and Languages\, MIT.  \nPresented by the Dissolve Inequality series and the Latin American Studies Forum of MIT Global Studies and Languages.\ngsl-events@mit.edu • mitgsl.mit.edu
URL:https://cms.mit.edu/event/michael-taussig-mooning-texas/
LOCATION:MIT Building 32 (Stata Center)\, Room 155\, 32 Vassar Street\, Cambridge\, MA\, 02139\, United States
CATEGORIES:Colloquium
ATTACH;FMTTYPE=image/jpeg:https://cms.mit.edu/wp/wp-content/uploads/2016/04/Michael-Taussig.jpg
END:VEVENT
BEGIN:VEVENT
DTSTART;TZID=America/New_York:20160407T180000
DTEND;TZID=America/New_York:20160407T200000
DTSTAMP:20260422T010331
CREATED:20160328T180019Z
LAST-MODIFIED:20201014T152652Z
UID:26958-1460052000-1460059200@cms.mit.edu
SUMMARY:Being Muslim in America (and MIT) in 2016
DESCRIPTION:Last December\, Republican presidential frontrunner Donald Trump called for a ban on all Muslims entering the United States. In March\, he added that “I think Islam hates us.” Cambridge City Councilman Nadeem Mazen and Wise Systems co-founder Layla Shaikley–both MIT alumni–join engineering masters student Abubakar Abid to explore how this type of hateful\, discriminatory rhetoric influences public opinion\, discuss its impact on the daily lives of Muslim-Americans\, and examine strategies for combating it. \nNadeem Mazen is an MIT graduate\, Cambridge’s first Muslim city councilman and CEO of the Cambridge makerspace danger!awesome. \nLayle Shaikley is an MIT alum\, co-founder of Wise Systems and co-founder of TEDxBaghdad. With her viral video sensation “Muslim Hipsters: #mipsterz\,” she helped launch a national conversation about how Muslim women are represented. \nAbubakar Abid is a engineering masters student at MIT and a member of the Muslim Student Association. \nModerator: Seth Mnookin\, associate director of MIT’s Graduate Program in Science Writing and director of the MIT Communications Forum.
URL:https://cms.mit.edu/event/muslim-america-mit-2016/
LOCATION:MIT Building 3\, Room 270\, 33 Massachusetts Ave (Rear)\, Cambridge\, MA\, 02319\, United States
CATEGORIES:Communications Forum
ATTACH;FMTTYPE=image/jpeg:https://cms.mit.edu/wp/wp-content/uploads/2016/03/Muslim-in-America-2x1.jpg
END:VEVENT
END:VCALENDAR