BEGIN:VCALENDAR
VERSION:2.0
PRODID:-//MIT Graduate Program in Comparative Media Studies - ECPv5.16.1//NONSGML v1.0//EN
CALSCALE:GREGORIAN
METHOD:PUBLISH
X-WR-CALNAME:MIT Graduate Program in Comparative Media Studies
X-ORIGINAL-URL:https://cms.mit.edu
X-WR-CALDESC:Events for MIT Graduate Program in Comparative Media Studies
REFRESH-INTERVAL;VALUE=DURATION:PT1H
X-Robots-Tag:noindex
X-PUBLISHED-TTL:PT1H
BEGIN:VTIMEZONE
TZID:America/New_York
BEGIN:DAYLIGHT
TZOFFSETFROM:-0500
TZOFFSETTO:-0400
TZNAME:EDT
DTSTART:20160313T070000
END:DAYLIGHT
BEGIN:STANDARD
TZOFFSETFROM:-0400
TZOFFSETTO:-0500
TZNAME:EST
DTSTART:20161106T060000
END:STANDARD
END:VTIMEZONE
BEGIN:VEVENT
DTSTART;VALUE=DATE:20160119
DTEND;VALUE=DATE:20160122
DTSTAMP:20260421T204506
CREATED:20160108T142106Z
LAST-MODIFIED:20160108T142106Z
UID:26603-1453161600-1453420799@cms.mit.edu
SUMMARY:"Theory" and its Quotation Marks
DESCRIPTION:Full info at http://student.mit.edu/iap/ns82.html: \nLilia Kilburn\, Katie Arthur \nEnrollment: Unlimited: No advance sign-up\nAttendance: Participants welcome at individual sessions \nThe aim of this course is to provide an opportunity to explore (and a community with which to do so) the longstanding dialogue in the humanities commonly known as “theory\,” using inroads offered by certain modifiers (queer theory\, feminist theory\, media theory\, critical race theory\, affect theory and so forth). “Theory” is a word to which some people express an allergic reaction\, but we posit that the transformative potential of many of these theoretical writings\, and the power of the critiques they render\, make them worth the occasional difficulty. \nEveryone is welcome\, with or without any background or experience in theory or literature! We will provide short readings for each session\, and we recommend that you commit to the full program\, however\, you may also attend individual sessions. \nSponsor(s): Comparative Media Studies/Writing\nContact: Lilia Kilburn\, liliak@mit.edu
URL:https://cms.mit.edu/event/theory-and-its-quotation-marks-2/
LOCATION:TBA
CATEGORIES:Independent Activities Period
ATTACH;FMTTYPE=image/jpeg:https://cms.mit.edu/wp/wp-content/uploads/2015/12/Independent-Activities-Period.jpg
END:VEVENT
END:VCALENDAR