BEGIN:VCALENDAR
VERSION:2.0
PRODID:-//MIT Graduate Program in Comparative Media Studies - ECPv5.16.1//NONSGML v1.0//EN
CALSCALE:GREGORIAN
METHOD:PUBLISH
X-ORIGINAL-URL:https://cms.mit.edu
X-WR-CALDESC:Events for MIT Graduate Program in Comparative Media Studies
REFRESH-INTERVAL;VALUE=DURATION:PT1H
X-Robots-Tag:noindex
X-PUBLISHED-TTL:PT1H
BEGIN:VTIMEZONE
TZID:America/New_York
BEGIN:DAYLIGHT
TZOFFSETFROM:-0500
TZOFFSETTO:-0400
TZNAME:EDT
DTSTART:20120311T070000
END:DAYLIGHT
BEGIN:STANDARD
TZOFFSETFROM:-0400
TZOFFSETTO:-0500
TZNAME:EST
DTSTART:20121104T060000
END:STANDARD
END:VTIMEZONE
BEGIN:VEVENT
DTSTART;TZID=America/New_York:20120405T170000
DTEND;TZID=America/New_York:20120405T190000
DTSTAMP:20260422T191035
CREATED:20140827T202814Z
LAST-MODIFIED:20211123T131559Z
UID:21546-1333645200-1333652400@cms.mit.edu
SUMMARY:Adapting Journalism to the Web
DESCRIPTION:Co-sponsored by the Center for Civic Media; Comparative Media Studies; Science\, Technology\, and Society; and the Program in Writing and Humanistic Studies \nNew communications technologies are revolutionizing our experience of news and information.  The avalanche of news\, gossip\, and citizen reporting available on the web is immensely valuable but also often deeply unreliable.  How can professional reporters and editors help to assure that quality journalism will be recognized and valued in our brave new digital world? \nJay Rosen is director of NYU’s Studio 20\, a master’s level journalism program which uses projects to teach innovation in journalism. He is the author of the blog PressThink\, and of the book What are Journalists For? \nEthan Zuckerman is director of the Center for Civic Media at MIT\, and a principal research scientist at the Media Lab. He blogs at ethanzuckerman.com/blog. \nA Knight Science Journalism event.
URL:https://cms.mit.edu/event/adapting-journalism-to-the-web/
LOCATION:MIT Media Lab\, Room 633\, 75 Amherst St.\, Cambridge\, MA\, 02139\, United States
CATEGORIES:Communications Forum
ATTACH;FMTTYPE=image/jpeg:https://cms.mit.edu/wp/wp-content/uploads/2012/04/i-f3a913a4b360bfe218ffa2d28ef4417c-jay-rosen-headshot.jpg
END:VEVENT
END:VCALENDAR